Workbook

Sheet Endabrechnung
B1: Dienstnehmer: 29 | C1: Dragoliub MARGAN | F1: Versicherungsnr.: 4983050671
B3: Überstunden Abrechnung gemäß §2g AVRAG | J3: Tag- u. Nächtigungsgelder Berichtigung | M3: Vorschüsse (Darlehen) Dienstnehmer 2026
B4: Zeitraum | C4: Sollstunden | D4: Iststunden | E4: ÜSt 50 % | F4: Üst 100 % | G4: ÜSt 50 % stfr | H4: Üst 50 % stpfl | I4: ÜSt-Entlohnung brutto (ÜGL + ÜZ 50%) | J4: Taggelder Ist | K4: Taggelder Soll | L4: Kürzung Taggelder | M4: Summe | N4: Netto vor Aufrollung | O4: Netto nach Aufrollung | P4: Summe Nachzahlung LSt / SV
B5: 12.01.-31.01.2026 | C5: =38.5*3 -> 115.5 | D5: 142 | E5: =D5-C5 -> 26.5 | F5: 0 | G5: 15 | H5: =E5-G5 -> 11.5 | I5: =(2759.39/143)*Endabrechnung!E5+((2759.39/143)*H5)*0.5 -> 622.30998 | J5: =440+600 -> 1040 | K5: 395.82 | L5: =J5-K5 -> 644.18 | M5: 2300 | N5: unter Grenzbetrag 7.300 €
B6: 01.02.-28.02.2026 | C6: =38.5*4 -> 154 | D6: 174.5 | E6: =D6-C6 -> 20.5 | F6: 0 | G6: 15 | H6: =E6-G6 -> 5.5 | I6: =(2759.39/143)*Endabrechnung!E6+((2759.39/143)*H6)*0.5 -> 448.64208 | J6: =476+840 -> 1316 | K6: 527.76 | L6: =J6-K6 -> 788.24 | M6: 2000 | N6: unter Grenzbetrag 7.300 €
B7: 01.03.-12.03.2026 | C7: =38.5*4+8+8 -> 170 | D7: 201 | E7: =D7-C7 -> 31 | F7: 0 | G7: 15 | H7: =E7-G7 -> 16 | I7: =(2759.39/143)*Endabrechnung!E7+((2759.39/143)*H7)*0.5 -> 752.56091 | J7: =837+1059 -> 1896 | K7: 587.76 | L7: =J7-K7 -> 1308.24 | M7: 3000 | N7: unter Grenzbetrag 7.300 €
B8: 01.04.-30.04.2026 | C8: =38.5*4+8+8-8 -> 162 | D8: 183.5 | E8: =D8-C8 -> 21.5 | F8: 0 | G8: 15 | H8: =E8-G8 -> 6.5 | I8: =(2759.39/143)*Endabrechnung!E8+((2759.39/143)*H8)*0.5 -> 477.58673 | J8: =760.7+210+811.9 -> 1782.6 | K8: 575.82 | L8: =J8-K8 -> 1206.78 | M8: 3500 | N8: 866.12 | O8: -931.03 | P8: =N8-O8 -> 1797.15
B9: 01.05.-31.05.2026 | C9: =38.5*4+6.5-6.5-8-8 -> 138 | D9: 175.5 | E9: =D9-C9 -> 37.5 | F9: 0 | G9: 15 | H9: =E9+E10+E11-G9 -> 18 | I9: =(2759.39/143)*Endabrechnung!E9+((2759.39/143)*H9)*0.5 -> 897.28416 | J9: =527+840 -> 1367 | K9: 467.76 | L9: =J9-K9 -> 899.24 | M9: 2000 | N9: 1998.68 | O9: 1212.68 | P9: =N9-O9 -> 786
B10: 01.06.-30.06.2026 | C10: =38.5*4+16-8 -> 162 | D10: 183 | E10: =D10-C10 -> 21 | F10: 0 | G10: 0 | H10: 0 | I10: =(2759.39/143)*Endabrechnung!E10+((2759.39/143)*H10)*0.5 -> 405.2251 | J10: =749.8+1016.6 -> 1766.4 | K10: 515.82 | L10: =J10-K10 -> 1250.58 | M10: 1000 | N10: 2784.65 | O10: 2404.65 | P10: =N10-O10 -> 380
B11: 01.07.-16.07.2026 | C11: =38.5*2+16 -> 93 | D11: 67.5 | E11: =D11-C11 -> -25.5 | F11: 0 | G11: 0 | H11: 0 | I11: =(2759.39/143)*Endabrechnung!E11+((2759.39/143)*H11)*0.5 -> -492.05906 | J11: 293.88 | K11: 293.88 | L11: =J11-K11 -> 0
B12: Summe | C12: =SUM(C5:C11) -> 994.5 | D12: =SUM(D5:D11) -> 1127 | E12: =SUM(E5:E11) -> 132.5 | F12: =SUM(F5:F11) -> 0 | G12: =SUM(G5:G11) -> 75 | H12: =SUM(H5:H11) -> 57.5 | I12: =(2759.39/143)*E12+((2759.39/143)*E12)*0.5 -> 3835.1662 | J12: =SUM(J5:J11) -> 9461.88 | K12: =SUM(K5:K11) -> 3364.62 | L12: =SUM(L5:L11) -> 6097.26 | M12: =SUM(M5:M11) -> 13800 | N12: =SUM(N5:N11) -> 5649.45 | O12: =SUM(O5:O11) -> 2686.3 | P12: =SUM(P5:P11) -> 2963.15

Sheet Vorschüsse
A1: Vorschüsse (Darlehen) Dienstnehmer 2026
A2: Monat | B2: Summe | C2: Lohnverrechnung
A3: Jänner | B3: 2300 | C3: unter Grenzbetrag
A4: Februar | B4: 2000 | C4: unter Grenzbetrag
A5: März | B5: 3000 | C5: unter Grenzbetrag
A6: ab hier übersteigen Lohnvorschüsse den Grenzbetrag 7.300 €
A7: Monat | B7: Summe | C7: Lohnverrechnung | D7: Netto vor Aufrollung | E7: Netto nach Aufrollung | F7: Summe Nachzahlung an Steuern / Sozialversicherung
A8: April | B8: 3500 | C8: aufrollen | D8: 866.12 | E8: -931.03 | F8: =D8-E8 -> 1797.15
A9: Mai | B9: 2000 | C9: aufrollen | D9: 1998.68 | E9: 1212.68 | F9: =D9-E9 -> 786
A10: Juni | B10: 1000 | C10: aufrollen | D10: 2784.65 | E10: 2404.65 | F10: =D10-E10 -> 380
A11: Juli
A12: Summe | B12: =SUM(B3:B11) -> 13800 | F12: =SUM(F8:F10) -> 2963.15

Sheet LG 5 + ÜStd
A1: Umstufung Lohngruppe 5 auf 4 + Überstundenentlohnung
A2: Monat | B2: Bruttolohn vorher | C2: Bruttolohn neu | D2: ÜGL + ÜZ 50 % stpfl. | E2: Brutto vor Aufrollung | F2: Brutto nach Aufrollung | H2: SV | I2: LSt % | J2: LSt | K2: SV + LSt vorher | L2: SV + LSt nachher | M2: Aufzahlung SV + LSt bei Üstd
A3: Jänner | B3: 2627.28 | C3: 2759.39 | D3: =Endabrechnung!I5 -> 622.30998 | E3: 1751.52 | F3: =E3-B3+C3+D3 -> 2505.94 | H3: =IF(F3<2225,(0.1807-0.0295)*F3,IF(F3<2427,(0.1807-0.0195)*F3,IF(F3<2630,(0.1807-0.0095)*F3,0.1807*F3))) -> 429.01693 | I3: =IF(F3-H3<1128.25,0,IF(F3-H3<=1843.67,0.2,IF(F3-H3<=3049.17,0.3,IF(F3-H3<=5874.75,0.4,IF(F3-H3<=8749.25,0.48,IF(F3-H3<=83344.33,0.5,0.55)))))) -> 0.3 | J3: =(F3-H3)*I3 -> 623.07692 | K3: =264.84+143.64 -> 408.48 | L3: =H3+J3 -> 1052.0938 | M3: =L3-K3 -> 643.61384
A4: Februar | B4: 2627.28 | C4: 2759.39 | D4: =Endabrechnung!I6 -> 448.64208 | E4: 2627.28 | F4: =E4-B4+C4+D4 -> 3208.0321 | H4: =IF(F4<2225,(0.1807-0.0295)*F4,IF(F4<2427,(0.1807-0.0195)*F4,IF(F4<2630,(0.1807-0.0095)*F4,0.1807*F4))) -> 579.6914 | I4: =IF(F4-H4<1128.25,0,IF(F4-H4<=1843.67,0.2,IF(F4-H4<=3049.17,0.3,IF(F4-H4<=5874.75,0.4,IF(F4-H4<=8749.25,0.48,IF(F4-H4<=83344.33,0.5,0.55)))))) -> 0.3 | J4: =(F4-H4)*I4 -> 788.50221 | K4: =449.8+199.69 -> 649.49 | L4: =H4+J4 -> 1368.1936 | M4: =L4-K4 -> 718.7036
A5: März | B5: 2627.28 | C5: 2759.39 | D5: =Endabrechnung!I7 -> 752.56091 | E5: 2627.28 | F5: =E5-B5+C5+D5 -> 3511.9509 | H5: =IF(F5<2225,(0.1807-0.0295)*F5,IF(F5<2427,(0.1807-0.0195)*F5,IF(F5<2630,(0.1807-0.0095)*F5,0.1807*F5))) -> 634.60953 | I5: =IF(F5-H5<1128.25,0,IF(F5-H5<=1843.67,0.2,IF(F5-H5<=3049.17,0.3,IF(F5-H5<=5874.75,0.4,IF(F5-H5<=8749.25,0.48,IF(F5-H5<=83344.33,0.5,0.55)))))) -> 0.3 | J5: =(F5-H5)*I5 -> 863.20241 | K5: =449.8+199.69 -> 649.49 | L5: =H5+J5 -> 1497.8119 | M5: =L5-K5 -> 848.32194
A6: April | B6: 2627.28 | C6: 2759.39 | D6: =Endabrechnung!I8 -> 477.58673 | E6: 3203.89 | F6: =E6-B6+C6+D6 -> 3813.5867 | H6: =IF(F6<2225,(0.1807-0.0295)*F6,IF(F6<2427,(0.1807-0.0195)*F6,IF(F6<2630,(0.1807-0.0095)*F6,0.1807*F6))) -> 689.11512 | I6: =IF(F6-H6<1128.25,0,IF(F6-H6<=1843.67,0.2,IF(F6-H6<=3049.17,0.3,IF(F6-H6<=5874.75,0.4,IF(F6-H6<=8749.25,0.48,IF(F6-H6<=83344.33,0.5,0.55)))))) -> 0.4 | J6: =(F6-H6)*I6 -> 1249.7886 | K6: =449.8+252.68 -> 702.48 | L6: =H6+J6 -> 1938.9038 | M6: =L6-K6 -> 1236.4238
A7: Mai | B7: 2627.28 | C7: 2759.39 | D7: =Endabrechnung!I9 -> 897.28416 | E7: 2627.28 | F7: =E7-B7+C7+D7 -> 3656.6742 | H7: =IF(F7<2225,(0.1807-0.0295)*F7,IF(F7<2427,(0.1807-0.0195)*F7,IF(F7<2630,(0.1807-0.0095)*F7,0.1807*F7))) -> 660.76102 | I7: =IF(F7-H7<1128.25,0,IF(F7-H7<=1843.67,0.2,IF(F7-H7<=3049.17,0.3,IF(F7-H7<=5874.75,0.4,IF(F7-H7<=8749.25,0.48,IF(F7-H7<=83344.33,0.5,0.55)))))) -> 0.3 | J7: =(F7-H7)*I7 -> 898.77394 | K7: =449.8+199.69 -> 649.49 | L7: =H7+J7 -> 1559.535 | M7: =L7-K7 -> 910.04496
A8: Juni | B8: 2627.28 | C8: 2759.39 | D8: =Endabrechnung!I10 -> 405.2251 | E8: 5074.61 | F8: =E8-B8-B8+C8+C8+D8 -> 5744.0551 | H8: =IF(F8<2225,(0.1807-0.0295)*F8,IF(F8<2427,(0.1807-0.0195)*F8,IF(F8<2630,(0.1807-0.0095)*F8,0.1807*F8))) -> 1037.9508 | I8: =IF(F8-H8<1128.25,0,IF(F8-H8<=1843.67,0.2,IF(F8-H8<=3049.17,0.3,IF(F8-H8<=5874.75,0.4,IF(F8-H8<=8749.25,0.48,IF(F8-H8<=83344.33,0.5,0.55)))))) -> 0.4 | J8: =(F8-H8)*I8 -> 1882.4417 | K8: =844.31+285.66 -> 1129.97 | L8: =H8+J8 -> 2920.3925 | M8: =L8-K8 -> 1790.4225
A9: Juli | B9: 2627.28 | C9: 2760.39 | D9: =Endabrechnung!I11 -> -492.05906 | E9: 2570.61 | F9: =E9-B9+C9+D9 -> 2211.6609 | H9: =IF(F9<2225,(0.1807-0.0295)*F9,IF(F9<2427,(0.1807-0.0195)*F9,IF(F9<2630,(0.1807-0.0095)*F9,0.1807*F9))) -> 334.40313 | I9: =IF(F9-H9<1128.25,0,IF(F9-H9<=1843.67,0.2,IF(F9-H9<=3049.17,0.3,IF(F9-H9<=5874.75,0.4,IF(F9-H9<=8749.25,0.48,IF(F9-H9<=83344.33,0.5,0.55)))))) -> 0.3 | J9: =(F9-H9)*I9 -> 563.17734 | K9: =385.04+127 -> 512.04 | L9: =H9+J9 -> 897.58048 | M9: =L9-K9 -> 385.54048
A10: Summe | B10: =SUM(B3:B9) -> 18390.96 | F10: =SUM(F3:F9) -> 24651.9 | K10: =SUM(K3:K9) -> 4701.44 | L10: =SUM(L3:L9) -> 11234.511 | M10: =SUM(M3:M9) -> 6533.0711

Sheet Berichtigungen hinfällig
A1: Umstufung Lohngruppe 5 auf 4 + Sachbezug LKW
A2: Monat | B2: Bruttolohn vorher | C2: Bruttolohn neu | D2: Sachbezug KFZ | E2: Brutto vor Aufrollung | F2: Brutto nach Aufrollung | G2: Differenz Brutto abzgl. SB | I2: SV | J2: LSt % | K2: LSt | L2: SV + LSt vorher | M2: SV + LSt nachher | N2: Aufzahlung SV + LSt bei Umstufung LG 4 und Sachbezug KFZ
A3: Jänner | B3: 2627.28 | C3: 2759.39 | D3: =(26291.67*1.2)*0.02 -> 631.00008 | E3: 1751.52 | F3: =E3-B3+C3+D3 -> 2514.6301 | G3: =F3-E3-D3 -> 132.11 | I3: =IF(F3<2225,(0.1807-0.0295)*F3,IF(F3<2427,(0.1807-0.0195)*F3,IF(F3<2630,(0.1807-0.0095)*F3,0.1807*F3))) -> 430.50467 | J3: =IF(F3-I3<1128.25,0,IF(F3-I3<=1843.67,0.2,IF(F3-I3<=3049.17,0.3,IF(F3-I3<=5874.75,0.4,IF(F3-I3<=8749.25,0.48,IF(F3-I3<=83344.33,0.5,0.55)))))) -> 0.3 | K3: =(F3-I3)*J3 -> 625.23762 | L3: =264.84+143.64 -> 408.48 | M3: =I3+K3 -> 1055.7423 | N3: =M3-L3 -> 647.26229
A4: Februar | B4: 2627.28 | C4: 2759.39 | D4: =(26291.67*1.2)*0.02 -> 631.00008 | E4: 2627.28 | F4: =E4-B4+C4+D4 -> 3390.3901 | G4: =F4-E4-D4 -> 132.11 | I4: =IF(F4<2225,(0.1807-0.0295)*F4,IF(F4<2427,(0.1807-0.0195)*F4,IF(F4<2630,(0.1807-0.0095)*F4,0.1807*F4))) -> 612.64349 | J4: =IF(F4-I4<1128.25,0,IF(F4-I4<=1843.67,0.2,IF(F4-I4<=3049.17,0.3,IF(F4-I4<=5874.75,0.4,IF(F4-I4<=8749.25,0.48,IF(F4-I4<=83344.33,0.5,0.55)))))) -> 0.3 | K4: =(F4-I4)*J4 -> 833.32398 | L4: =449.8+199.69 -> 649.49 | M4: =I4+K4 -> 1445.9675 | N4: =M4-L4 -> 796.47747
A5: März | B5: 2627.28 | C5: 2759.39 | D5: =(26291.67*1.2)*0.02 -> 631.00008 | E5: 2627.28 | F5: =E5-B5+C5+D5 -> 3390.3901 | G5: =F5-E5-D5 -> 132.11 | I5: =IF(F5<2225,(0.1807-0.0295)*F5,IF(F5<2427,(0.1807-0.0195)*F5,IF(F5<2630,(0.1807-0.0095)*F5,0.1807*F5))) -> 612.64349 | J5: =IF(F5-I5<1128.25,0,IF(F5-I5<=1843.67,0.2,IF(F5-I5<=3049.17,0.3,IF(F5-I5<=5874.75,0.4,IF(F5-I5<=8749.25,0.48,IF(F5-I5<=83344.33,0.5,0.55)))))) -> 0.3 | K5: =(F5-I5)*J5 -> 833.32398 | L5: =449.8+199.69 -> 649.49 | M5: =I5+K5 -> 1445.9675 | N5: =M5-L5 -> 796.47747
A6: April | B6: 2627.28 | C6: 2759.39 | D6: =(26291.67*1.2)*0.02 -> 631.00008 | E6: 3203.89 | F6: =E6-B6+C6+D6 -> 3967.0001 | G6: =F6-E6-D6 -> 132.11 | I6: =IF(F6<2225,(0.1807-0.0295)*F6,IF(F6<2427,(0.1807-0.0195)*F6,IF(F6<2630,(0.1807-0.0095)*F6,0.1807*F6))) -> 716.83691 | J6: =IF(F6-I6<1128.25,0,IF(F6-I6<=1843.67,0.2,IF(F6-I6<=3049.17,0.3,IF(F6-I6<=5874.75,0.4,IF(F6-I6<=8749.25,0.48,IF(F6-I6<=83344.33,0.5,0.55)))))) -> 0.4 | K6: =(F6-I6)*J6 -> 1300.0653 | L6: =449.8+252.68 -> 702.48 | M6: =I6+K6 -> 2016.9022 | N6: =M6-L6 -> 1314.4222
A7: Mai | B7: 2627.28 | C7: 2759.39 | D7: =(26291.67*1.2)*0.02 -> 631.00008 | E7: 2627.28 | F7: =E7-B7+C7+D7 -> 3390.3901 | G7: =F7-E7-D7 -> 132.11 | I7: =IF(F7<2225,(0.1807-0.0295)*F7,IF(F7<2427,(0.1807-0.0195)*F7,IF(F7<2630,(0.1807-0.0095)*F7,0.1807*F7))) -> 612.64349 | J7: =IF(F7-I7<1128.25,0,IF(F7-I7<=1843.67,0.2,IF(F7-I7<=3049.17,0.3,IF(F7-I7<=5874.75,0.4,IF(F7-I7<=8749.25,0.48,IF(F7-I7<=83344.33,0.5,0.55)))))) -> 0.3 | K7: =(F7-I7)*J7 -> 833.32398 | L7: =449.8+199.69 -> 649.49 | M7: =I7+K7 -> 1445.9675 | N7: =M7-L7 -> 796.47747
A8: Juni | B8: 2627.28 | C8: 2759.39 | D8: =(26291.67*1.2)*0.02 -> 631.00008 | E8: 5074.61 | F8: =E8-B8-B8+C8+C8+D8 -> 5969.8301 | G8: =F8-E8-D8 -> 264.22 | I8: =IF(F8<2225,(0.1807-0.0295)*F8,IF(F8<2427,(0.1807-0.0195)*F8,IF(F8<2630,(0.1807-0.0095)*F8,0.1807*F8))) -> 1078.7483 | J8: =IF(F8-I8<1128.25,0,IF(F8-I8<=1843.67,0.2,IF(F8-I8<=3049.17,0.3,IF(F8-I8<=5874.75,0.4,IF(F8-I8<=8749.25,0.48,IF(F8-I8<=83344.33,0.5,0.55)))))) -> 0.4 | K8: =(F8-I8)*J8 -> 1956.4327 | L8: =844.31+285.66 -> 1129.97 | M8: =I8+K8 -> 3035.181 | N8: =M8-L8 -> 1905.211
A9: Juli | B9: 2627.28 | C9: 2760.39 | D9: =(26291.67*1.2)*0.02 -> 631.00008 | E9: 2570.61 | F9: =E9-B9+C9+D9 -> 3334.7201 | G9: =F9-E9-D9 -> 133.11 | I9: =IF(F9<2225,(0.1807-0.0295)*F9,IF(F9<2427,(0.1807-0.0195)*F9,IF(F9<2630,(0.1807-0.0095)*F9,0.1807*F9))) -> 602.58392 | J9: =IF(F9-I9<1128.25,0,IF(F9-I9<=1843.67,0.2,IF(F9-I9<=3049.17,0.3,IF(F9-I9<=5874.75,0.4,IF(F9-I9<=8749.25,0.48,IF(F9-I9<=83344.33,0.5,0.55)))))) -> 0.3 | K9: =(F9-I9)*J9 -> 819.64085 | L9: =385.04+127 -> 512.04 | M9: =I9+K9 -> 1422.2248 | N9: =M9-L9 -> 910.18477
A10: Summe | G10: =SUM(G3:G9) -> 1057.88 | L10: =SUM(L3:L9) -> 4701.44 | M10: =SUM(M3:M9) -> 11867.953 | N10: =M10-L10 -> 7166.5126
B13: Kilometergelder Berichtigung
B15: Kilometergeld Ist | C15: Kilometergeld Soll | D15: Differenz
B16: 622.5 | C16: 0 | D16: =B16-C16 -> 622.5
B17: 402.5 | C17: 0 | D17: =B17-C17 -> 402.5
B18: 1275 | C18: 0 | D18: =B18-C18 -> 1275
B19: 0 | C19: 0 | D19: =B19-C19 -> 0
B20: 899 | C20: 0 | D20: =B20-C20 -> 899
B21: 0 | C21: 0 | D21: =B21-C21 -> 0
B22: 0 | C22: 0 | D22: =B22-C22 -> 0
B23: =SUM(B16:B22) -> 3199 | C23: =SUM(C16:C22) -> 0 | D23: =SUM(D16:D22) -> 3199
