Workbook

Sheet Januar
A1: Datum | B1: Tag | C1: Krank/Urlaub/Feiertag | D1: Kommen | E1: Gehen | F1: Pause | G1: Arbeitszeit | H1: Sollstunden | I1: Überstunden | J1: Bemerkungen | K1: Diäten | L1: Zimmergeld | M1: =TEXT(A2,"MMMM")&" "&YEAR(A2) -> Jänner 2026 | Q1: Korrektur Soll
A2: 46023 | B2: =TEXT(A2,"TTT") -> Do | G2: =IF(OR(C2="krank",C2="Urlaub",C2="Sonderurlaub"), H2,IF(D2<=E2,(E2-D2-F2)*24,(1-D2+E2-F2)*24)+IF(C2= "Urlaub halber Tag",H2/2,0)+IF(AND(C2="Urlaub halber Tag", J2="halber Arbeitstag"),H2/2,0)) -> 0 | H2: =IF(Q2<>"",Q2,IF(OR(C2="Feiertag",A2<Gesamt!$B$11,A2>Gesamt!$B$13,),0,INDIRECT("N"&WEEKDAY(A2,2)+19))) -> 0 | I2: =IF(OR(C2="Überstundenabbau",C2="Urlaub halber Tag",E2<>""),G2-H2,0) -> 0 | J2: Graz
A3: 46024 | B3: =TEXT(A3,"TTT") -> Fr | G3: =IF(OR(C3="krank",C3="Urlaub",C3="Sonderurlaub"), H3,IF(D3<=E3,(E3-D3-F3)*24,(1-D3+E3-F3)*24)+IF(C3= "Urlaub halber Tag",H3/2,0)+IF(AND(C3="Urlaub halber Tag", J3="halber Arbeitstag"),H3/2,0)) -> 0 | H3: =IF(Q3<>"",Q3,IF(OR(C3="Feiertag",A3<Gesamt!$B$11,A3>Gesamt!$B$13,),0,INDIRECT("N"&WEEKDAY(A3,2)+19))) -> 0 | I3: =IF(OR(C3="Überstundenabbau",C3="Urlaub halber Tag",E3<>""),G3-H3,0) -> 0 | M3: =Gesamt!A3 -> Matija JELICIC
A4: 46025 | B4: =TEXT(A4,"TTT") -> Sa | G4: =IF(OR(C4="krank",C4="Urlaub",C4="Sonderurlaub"), H4,IF(D4<=E4,(E4-D4-F4)*24,(1-D4+E4-F4)*24)+IF(C4= "Urlaub halber Tag",H4/2,0)+IF(AND(C4="Urlaub halber Tag", J4="halber Arbeitstag"),H4/2,0)) -> 0 | H4: =IF(Q4<>"",Q4,IF(OR(C4="Feiertag",A4<Gesamt!$B$11,A4>Gesamt!$B$13,),0,INDIRECT("N"&WEEKDAY(A4,2)+19))) -> 0 | I4: =IF(OR(C4="Überstundenabbau",C4="Urlaub halber Tag",E4<>""),G4-H4,0) -> 0
A5: 46026 | B5: =TEXT(A5,"TTT") -> So | G5: =IF(OR(C5="krank",C5="Urlaub",C5="Sonderurlaub"), H5,IF(D5<=E5,(E5-D5-F5)*24,(1-D5+E5-F5)*24)+IF(C5= "Urlaub halber Tag",H5/2,0)+IF(AND(C5="Urlaub halber Tag", J5="halber Arbeitstag"),H5/2,0)) -> 0 | H5: =IF(Q5<>"",Q5,IF(OR(C5="Feiertag",A5<Gesamt!$B$11,A5>Gesamt!$B$13,),0,INDIRECT("N"&WEEKDAY(A5,2)+19))) -> 0 | I5: =IF(OR(C5="Überstundenabbau",C5="Urlaub halber Tag",E5<>""),G5-H5,0) -> 0 | M5: Überstunden Monat: | N5: =SUM(I2:I32) -> -2.1316282e-14
A6: 46027 | B6: =TEXT(A6,"TTT") -> Mo | G6: =IF(OR(C6="krank",C6="Urlaub",C6="Sonderurlaub"), H6,IF(D6<=E6,(E6-D6-F6)*24,(1-D6+E6-F6)*24)+IF(C6= "Urlaub halber Tag",H6/2,0)+IF(AND(C6="Urlaub halber Tag", J6="halber Arbeitstag"),H6/2,0)) -> 0 | H6: =IF(Q6<>"",Q6,IF(OR(C6="Feiertag",A6<Gesamt!$B$11,A6>Gesamt!$B$13,),0,INDIRECT("N"&WEEKDAY(A6,2)+19))) -> 0 | I6: =IF(OR(C6="Überstundenabbau",C6="Urlaub halber Tag",E6<>""),G6-H6,0) -> 0
A7: 46028 | B7: =TEXT(A7,"TTT") -> Di | G7: =IF(OR(C7="krank",C7="Urlaub",C7="Sonderurlaub"), H7,IF(D7<=E7,(E7-D7-F7)*24,(1-D7+E7-F7)*24)+IF(C7= "Urlaub halber Tag",H7/2,0)+IF(AND(C7="Urlaub halber Tag", J7="halber Arbeitstag"),H7/2,0)) -> 0 | H7: =IF(Q7<>"",Q7,IF(OR(C7="Feiertag",A7<Gesamt!$B$11,A7>Gesamt!$B$13,),0,INDIRECT("N"&WEEKDAY(A7,2)+19))) -> 0 | I7: =IF(OR(C7="Überstundenabbau",C7="Urlaub halber Tag",E7<>""),G7-H7,0) -> 0 | M7: Überstundenkonto: | N7: =Gesamt!B9+Gesamt!E2-Gesamt!J2 -> -2.1316282e-14
A8: 46029 | B8: =TEXT(A8,"TTT") -> Mi | G8: =IF(OR(C8="krank",C8="Urlaub",C8="Sonderurlaub"), H8,IF(D8<=E8,(E8-D8-F8)*24,(1-D8+E8-F8)*24)+IF(C8= "Urlaub halber Tag",H8/2,0)+IF(AND(C8="Urlaub halber Tag", J8="halber Arbeitstag"),H8/2,0)) -> 0 | H8: =IF(Q8<>"",Q8,IF(OR(C8="Feiertag",A8<Gesamt!$B$11,A8>Gesamt!$B$13,),0,INDIRECT("N"&WEEKDAY(A8,2)+19))) -> 0 | I8: =IF(OR(C8="Überstundenabbau",C8="Urlaub halber Tag",E8<>""),G8-H8,0) -> 0
A9: 46030 | B9: =TEXT(A9,"TTT") -> Do | G9: =IF(OR(C9="krank",C9="Urlaub",C9="Sonderurlaub"), H9,IF(D9<=E9,(E9-D9-F9)*24,(1-D9+E9-F9)*24)+IF(C9= "Urlaub halber Tag",H9/2,0)+IF(AND(C9="Urlaub halber Tag", J9="halber Arbeitstag"),H9/2,0)) -> 0 | H9: =IF(Q9<>"",Q9,IF(OR(C9="Feiertag",A9<Gesamt!$B$11,A9>Gesamt!$B$13,),0,INDIRECT("N"&WEEKDAY(A9,2)+19))) -> 0 | I9: =IF(OR(C9="Überstundenabbau",C9="Urlaub halber Tag",E9<>""),G9-H9,0) -> 0 | M9: Kranktage Monat: | N9: =COUNTIF(C2:C32,"krank") -> 0
A10: 46031 | B10: =TEXT(A10,"TTT") -> Fr | G10: =IF(OR(C10="krank",C10="Urlaub",C10="Sonderurlaub"), H10,IF(D10<=E10,(E10-D10-F10)*24,(1-D10+E10-F10)*24)+IF(C10= "Urlaub halber Tag",H10/2,0)+IF(AND(C10="Urlaub halber Tag", J10="halber Arbeitstag"),H10/2,0)) -> 0 | H10: =IF(Q10<>"",Q10,IF(OR(C10="Feiertag",A10<Gesamt!$B$11,A10>Gesamt!$B$13,),0,INDIRECT("N"&WEEKDAY(A10,2)+19))) -> 0 | I10: =IF(OR(C10="Überstundenabbau",C10="Urlaub halber Tag",E10<>""),G10-H10,0) -> 0
A11: 46032 | B11: =TEXT(A11,"TTT") -> Sa | G11: =IF(OR(C11="krank",C11="Urlaub",C11="Sonderurlaub"), H11,IF(D11<=E11,(E11-D11-F11)*24,(1-D11+E11-F11)*24)+IF(C11= "Urlaub halber Tag",H11/2,0)+IF(AND(C11="Urlaub halber Tag", J11="halber Arbeitstag"),H11/2,0)) -> 0 | H11: =IF(Q11<>"",Q11,IF(OR(C11="Feiertag",A11<Gesamt!$B$11,A11>Gesamt!$B$13,),0,INDIRECT("N"&WEEKDAY(A11,2)+19))) -> 0 | I11: =IF(OR(C11="Überstundenabbau",C11="Urlaub halber Tag",E11<>""),G11-H11,0) -> 0 | M11: Kranktage Jahr bisher: | N11: =Gesamt!F2 -> 0
A12: 46033 | B12: =TEXT(A12,"TTT") -> So | G12: =IF(OR(C12="krank",C12="Urlaub",C12="Sonderurlaub"), H12,IF(D12<=E12,(E12-D12-F12)*24,(1-D12+E12-F12)*24)+IF(C12= "Urlaub halber Tag",H12/2,0)+IF(AND(C12="Urlaub halber Tag", J12="halber Arbeitstag"),H12/2,0)) -> 0 | H12: =IF(Q12<>"",Q12,IF(OR(C12="Feiertag",A12<Gesamt!$B$11,A12>Gesamt!$B$13,),0,INDIRECT("N"&WEEKDAY(A12,2)+19))) -> 0 | I12: =IF(OR(C12="Überstundenabbau",C12="Urlaub halber Tag",E12<>""),G12-H12,0) -> 0
A13: 46034 | B13: =TEXT(A13,"TTT") -> Mo | D13: 0.29166667 | E13: 0.66666667 | F13: 0.041666667 | G13: =IF(OR(C13="krank",C13="Urlaub",C13="Sonderurlaub"), H13,IF(D13<=E13,(E13-D13-F13)*24,(1-D13+E13-F13)*24)+IF(C13= "Urlaub halber Tag",H13/2,0)+IF(AND(C13="Urlaub halber Tag", J13="halber Arbeitstag"),H13/2,0)) -> 8 | H13: =IF(Q13<>"",Q13,IF(OR(C13="Feiertag",A13<Gesamt!$B$11,A13>Gesamt!$B$13,),0,INDIRECT("N"&WEEKDAY(A13,2)+19))) -> 8 | I13: =IF(OR(C13="Überstundenabbau",C13="Urlaub halber Tag",E13<>""),G13-H13,0) -> -1.7763568e-15 | J13: Wien | K13: 30 | M13: Urlaubstage Monat: | N13: =COUNTIF(C2:C32, "Urlaub")+COUNTIF(C2:C32,"Urlaub halber Tag")/2 -> 0
A14: 46035 | B14: =TEXT(A14,"TTT") -> Di | D14: 0.29166667 | E14: 0.66666667 | F14: 0.041666667 | G14: =IF(OR(C14="krank",C14="Urlaub",C14="Sonderurlaub"), H14,IF(D14<=E14,(E14-D14-F14)*24,(1-D14+E14-F14)*24)+IF(C14= "Urlaub halber Tag",H14/2,0)+IF(AND(C14="Urlaub halber Tag", J14="halber Arbeitstag"),H14/2,0)) -> 8 | H14: =IF(Q14<>"",Q14,IF(OR(C14="Feiertag",A14<Gesamt!$B$11,A14>Gesamt!$B$13,),0,INDIRECT("N"&WEEKDAY(A14,2)+19))) -> 8 | I14: =IF(OR(C14="Überstundenabbau",C14="Urlaub halber Tag",E14<>""),G14-H14,0) -> -1.7763568e-15 | J14: Wien | K14: 30
A15: 46036 | B15: =TEXT(A15,"TTT") -> Mi | D15: 0.29166667 | E15: 0.66666667 | F15: 0.041666667 | G15: =IF(OR(C15="krank",C15="Urlaub",C15="Sonderurlaub"), H15,IF(D15<=E15,(E15-D15-F15)*24,(1-D15+E15-F15)*24)+IF(C15= "Urlaub halber Tag",H15/2,0)+IF(AND(C15="Urlaub halber Tag", J15="halber Arbeitstag"),H15/2,0)) -> 8 | H15: =IF(Q15<>"",Q15,IF(OR(C15="Feiertag",A15<Gesamt!$B$11,A15>Gesamt!$B$13,),0,INDIRECT("N"&WEEKDAY(A15,2)+19))) -> 8 | I15: =IF(OR(C15="Überstundenabbau",C15="Urlaub halber Tag",E15<>""),G15-H15,0) -> -1.7763568e-15 | J15: Wien | K15: 30 | M15: Resturlaub am Monatsende: | N15: =Gesamt!B5+Gesamt!B7-Gesamt!G2 -> 24
A16: 46037 | B16: =TEXT(A16,"TTT") -> Do | D16: 0.29166667 | E16: 0.66666667 | F16: 0.041666667 | G16: =IF(OR(C16="krank",C16="Urlaub",C16="Sonderurlaub"), H16,IF(D16<=E16,(E16-D16-F16)*24,(1-D16+E16-F16)*24)+IF(C16= "Urlaub halber Tag",H16/2,0)+IF(AND(C16="Urlaub halber Tag", J16="halber Arbeitstag"),H16/2,0)) -> 8 | H16: =IF(Q16<>"",Q16,IF(OR(C16="Feiertag",A16<Gesamt!$B$11,A16>Gesamt!$B$13,),0,INDIRECT("N"&WEEKDAY(A16,2)+19))) -> 8 | I16: =IF(OR(C16="Überstundenabbau",C16="Urlaub halber Tag",E16<>""),G16-H16,0) -> -1.7763568e-15 | J16: Wien | K16: 30
A17: 46038 | B17: =TEXT(A17,"TTT") -> Fr | D17: 0.29166667 | E17: 0.5625 | G17: =IF(OR(C17="krank",C17="Urlaub",C17="Sonderurlaub"), H17,IF(D17<=E17,(E17-D17-F17)*24,(1-D17+E17-F17)*24)+IF(C17= "Urlaub halber Tag",H17/2,0)+IF(AND(C17="Urlaub halber Tag", J17="halber Arbeitstag"),H17/2,0)) -> 6.5 | H17: =IF(Q17<>"",Q17,IF(OR(C17="Feiertag",A17<Gesamt!$B$11,A17>Gesamt!$B$13,),0,INDIRECT("N"&WEEKDAY(A17,2)+19))) -> 6.5 | I17: =IF(OR(C17="Überstundenabbau",C17="Urlaub halber Tag",E17<>""),G17-H17,0) -> 0 | J17: Wien | K17: 30 | M17: Arbeitszeit Monat: | N17: =SUM(G2:G32) -> 115.5
A18: 46039 | B18: =TEXT(A18,"TTT") -> Sa | G18: =IF(OR(C18="krank",C18="Urlaub",C18="Sonderurlaub"), H18,IF(D18<=E18,(E18-D18-F18)*24,(1-D18+E18-F18)*24)+IF(C18= "Urlaub halber Tag",H18/2,0)+IF(AND(C18="Urlaub halber Tag", J18="halber Arbeitstag"),H18/2,0)) -> 0 | H18: =IF(Q18<>"",Q18,IF(OR(C18="Feiertag",A18<Gesamt!$B$11,A18>Gesamt!$B$13,),0,INDIRECT("N"&WEEKDAY(A18,2)+19))) -> 0 | I18: =IF(OR(C18="Überstundenabbau",C18="Urlaub halber Tag",E18<>""),G18-H18,0) -> 0 | J18: Wien | K18: 30
A19: 46040 | B19: =TEXT(A19,"TTT") -> So | G19: =IF(OR(C19="krank",C19="Urlaub",C19="Sonderurlaub"), H19,IF(D19<=E19,(E19-D19-F19)*24,(1-D19+E19-F19)*24)+IF(C19= "Urlaub halber Tag",H19/2,0)+IF(AND(C19="Urlaub halber Tag", J19="halber Arbeitstag"),H19/2,0)) -> 0 | H19: =IF(Q19<>"",Q19,IF(OR(C19="Feiertag",A19<Gesamt!$B$11,A19>Gesamt!$B$13,),0,INDIRECT("N"&WEEKDAY(A19,2)+19))) -> 0 | I19: =IF(OR(C19="Überstundenabbau",C19="Urlaub halber Tag",E19<>""),G19-H19,0) -> 0 | J19: Wien | K19: 30 | M19: Soll
A20: 46041 | B20: =TEXT(A20,"TTT") -> Mo | D20: 0.29166667 | E20: 0.66666667 | F20: 0.041666667 | G20: =IF(OR(C20="krank",C20="Urlaub",C20="Sonderurlaub"), H20,IF(D20<=E20,(E20-D20-F20)*24,(1-D20+E20-F20)*24)+IF(C20= "Urlaub halber Tag",H20/2,0)+IF(AND(C20="Urlaub halber Tag", J20="halber Arbeitstag"),H20/2,0)) -> 8 | H20: =IF(Q20<>"",Q20,IF(OR(C20="Feiertag",A20<Gesamt!$B$11,A20>Gesamt!$B$13,),0,INDIRECT("N"&WEEKDAY(A20,2)+19))) -> 8 | I20: =IF(OR(C20="Überstundenabbau",C20="Urlaub halber Tag",E20<>""),G20-H20,0) -> -1.7763568e-15 | J20: Wien | K20: 30 | M20: Montag | N20: =Gesamt!C30 -> 8
A21: 46042 | B21: =TEXT(A21,"TTT") -> Di | D21: 0.29166667 | E21: 0.66666667 | F21: 0.041666667 | G21: =IF(OR(C21="krank",C21="Urlaub",C21="Sonderurlaub"), H21,IF(D21<=E21,(E21-D21-F21)*24,(1-D21+E21-F21)*24)+IF(C21= "Urlaub halber Tag",H21/2,0)+IF(AND(C21="Urlaub halber Tag", J21="halber Arbeitstag"),H21/2,0)) -> 8 | H21: =IF(Q21<>"",Q21,IF(OR(C21="Feiertag",A21<Gesamt!$B$11,A21>Gesamt!$B$13,),0,INDIRECT("N"&WEEKDAY(A21,2)+19))) -> 8 | I21: =IF(OR(C21="Überstundenabbau",C21="Urlaub halber Tag",E21<>""),G21-H21,0) -> -1.7763568e-15 | J21: Wien | K21: 30 | M21: Dienstag | N21: =Gesamt!C31 -> 8
A22: 46043 | B22: =TEXT(A22,"TTT") -> Mi | D22: 0.29166667 | E22: 0.66666667 | F22: 0.041666667 | G22: =IF(OR(C22="krank",C22="Urlaub",C22="Sonderurlaub"), H22,IF(D22<=E22,(E22-D22-F22)*24,(1-D22+E22-F22)*24)+IF(C22= "Urlaub halber Tag",H22/2,0)+IF(AND(C22="Urlaub halber Tag", J22="halber Arbeitstag"),H22/2,0)) -> 8 | H22: =IF(Q22<>"",Q22,IF(OR(C22="Feiertag",A22<Gesamt!$B$11,A22>Gesamt!$B$13,),0,INDIRECT("N"&WEEKDAY(A22,2)+19))) -> 8 | I22: =IF(OR(C22="Überstundenabbau",C22="Urlaub halber Tag",E22<>""),G22-H22,0) -> -1.7763568e-15 | J22: Wien | K22: 30 | M22: Mittwoch | N22: =Gesamt!C32 -> 8
A23: 46044 | B23: =TEXT(A23,"TTT") -> Do | D23: 0.29166667 | E23: 0.66666667 | F23: 0.041666667 | G23: =IF(OR(C23="krank",C23="Urlaub",C23="Sonderurlaub"), H23,IF(D23<=E23,(E23-D23-F23)*24,(1-D23+E23-F23)*24)+IF(C23= "Urlaub halber Tag",H23/2,0)+IF(AND(C23="Urlaub halber Tag", J23="halber Arbeitstag"),H23/2,0)) -> 8 | H23: =IF(Q23<>"",Q23,IF(OR(C23="Feiertag",A23<Gesamt!$B$11,A23>Gesamt!$B$13,),0,INDIRECT("N"&WEEKDAY(A23,2)+19))) -> 8 | I23: =IF(OR(C23="Überstundenabbau",C23="Urlaub halber Tag",E23<>""),G23-H23,0) -> -1.7763568e-15 | J23: Wien | K23: 30 | M23: Donnerstag | N23: =Gesamt!C33 -> 8
A24: 46045 | B24: =TEXT(A24,"TTT") -> Fr | D24: 0.29166667 | E24: 0.5625 | G24: =IF(OR(C24="krank",C24="Urlaub",C24="Sonderurlaub"), H24,IF(D24<=E24,(E24-D24-F24)*24,(1-D24+E24-F24)*24)+IF(C24= "Urlaub halber Tag",H24/2,0)+IF(AND(C24="Urlaub halber Tag", J24="halber Arbeitstag"),H24/2,0)) -> 6.5 | H24: =IF(Q24<>"",Q24,IF(OR(C24="Feiertag",A24<Gesamt!$B$11,A24>Gesamt!$B$13,),0,INDIRECT("N"&WEEKDAY(A24,2)+19))) -> 6.5 | I24: =IF(OR(C24="Überstundenabbau",C24="Urlaub halber Tag",E24<>""),G24-H24,0) -> 0 | J24: Wien | K24: 30 | M24: Freitag | N24: =Gesamt!C34 -> 6.5
A25: 46046 | B25: =TEXT(A25,"TTT") -> Sa | G25: =IF(OR(C25="krank",C25="Urlaub",C25="Sonderurlaub"), H25,IF(D25<=E25,(E25-D25-F25)*24,(1-D25+E25-F25)*24)+IF(C25= "Urlaub halber Tag",H25/2,0)+IF(AND(C25="Urlaub halber Tag", J25="halber Arbeitstag"),H25/2,0)) -> 0 | H25: =IF(Q25<>"",Q25,IF(OR(C25="Feiertag",A25<Gesamt!$B$11,A25>Gesamt!$B$13,),0,INDIRECT("N"&WEEKDAY(A25,2)+19))) -> 0 | I25: =IF(OR(C25="Überstundenabbau",C25="Urlaub halber Tag",E25<>""),G25-H25,0) -> 0 | J25: Wien | K25: 30 | M25: Samstag | N25: =Gesamt!C35 -> 0
A26: 46047 | B26: =TEXT(A26,"TTT") -> So | G26: =IF(OR(C26="krank",C26="Urlaub",C26="Sonderurlaub"), H26,IF(D26<=E26,(E26-D26-F26)*24,(1-D26+E26-F26)*24)+IF(C26= "Urlaub halber Tag",H26/2,0)+IF(AND(C26="Urlaub halber Tag", J26="halber Arbeitstag"),H26/2,0)) -> 0 | H26: =IF(Q26<>"",Q26,IF(OR(C26="Feiertag",A26<Gesamt!$B$11,A26>Gesamt!$B$13,),0,INDIRECT("N"&WEEKDAY(A26,2)+19))) -> 0 | I26: =IF(OR(C26="Überstundenabbau",C26="Urlaub halber Tag",E26<>""),G26-H26,0) -> 0 | J26: Wien | K26: 30 | M26: Sonntag | N26: =Gesamt!C36 -> 0
A27: 46048 | B27: =TEXT(A27,"TTT") -> Mo | D27: 0.29166667 | E27: 0.66666667 | F27: 0.041666667 | G27: =IF(OR(C27="krank",C27="Urlaub",C27="Sonderurlaub"), H27,IF(D27<=E27,(E27-D27-F27)*24,(1-D27+E27-F27)*24)+IF(C27= "Urlaub halber Tag",H27/2,0)+IF(AND(C27="Urlaub halber Tag", J27="halber Arbeitstag"),H27/2,0)) -> 8 | H27: =IF(Q27<>"",Q27,IF(OR(C27="Feiertag",A27<Gesamt!$B$11,A27>Gesamt!$B$13,),0,INDIRECT("N"&WEEKDAY(A27,2)+19))) -> 8 | I27: =IF(OR(C27="Überstundenabbau",C27="Urlaub halber Tag",E27<>""),G27-H27,0) -> -1.7763568e-15 | J27: Wien | K27: 30 | M27: Wochenarbeitszeit | N27: =SUM(N20:N26) -> 38.5
A28: 46049 | B28: =TEXT(A28,"TTT") -> Di | D28: 0.29166667 | E28: 0.66666667 | F28: 0.041666667 | G28: =IF(OR(C28="krank",C28="Urlaub",C28="Sonderurlaub"), H28,IF(D28<=E28,(E28-D28-F28)*24,(1-D28+E28-F28)*24)+IF(C28= "Urlaub halber Tag",H28/2,0)+IF(AND(C28="Urlaub halber Tag", J28="halber Arbeitstag"),H28/2,0)) -> 8 | H28: =IF(Q28<>"",Q28,IF(OR(C28="Feiertag",A28<Gesamt!$B$11,A28>Gesamt!$B$13,),0,INDIRECT("N"&WEEKDAY(A28,2)+19))) -> 8 | I28: =IF(OR(C28="Überstundenabbau",C28="Urlaub halber Tag",E28<>""),G28-H28,0) -> -1.7763568e-15 | J28: Wien | K28: 30
A29: 46050 | B29: =TEXT(A29,"TTT") -> Mi | D29: 0.29166667 | E29: 0.66666667 | F29: 0.041666667 | G29: =IF(OR(C29="krank",C29="Urlaub",C29="Sonderurlaub"), H29,IF(D29<=E29,(E29-D29-F29)*24,(1-D29+E29-F29)*24)+IF(C29= "Urlaub halber Tag",H29/2,0)+IF(AND(C29="Urlaub halber Tag", J29="halber Arbeitstag"),H29/2,0)) -> 8 | H29: =IF(Q29<>"",Q29,IF(OR(C29="Feiertag",A29<Gesamt!$B$11,A29>Gesamt!$B$13,),0,INDIRECT("N"&WEEKDAY(A29,2)+19))) -> 8 | I29: =IF(OR(C29="Überstundenabbau",C29="Urlaub halber Tag",E29<>""),G29-H29,0) -> -1.7763568e-15 | J29: Wien | K29: 30
A30: 46051 | B30: =TEXT(A30,"TTT") -> Do | D30: 0.29166667 | E30: 0.66666667 | F30: 0.041666667 | G30: =IF(OR(C30="krank",C30="Urlaub",C30="Sonderurlaub"), H30,IF(D30<=E30,(E30-D30-F30)*24,(1-D30+E30-F30)*24)+IF(C30= "Urlaub halber Tag",H30/2,0)+IF(AND(C30="Urlaub halber Tag", J30="halber Arbeitstag"),H30/2,0)) -> 8 | H30: =IF(Q30<>"",Q30,IF(OR(C30="Feiertag",A30<Gesamt!$B$11,A30>Gesamt!$B$13,),0,INDIRECT("N"&WEEKDAY(A30,2)+19))) -> 8 | I30: =IF(OR(C30="Überstundenabbau",C30="Urlaub halber Tag",E30<>""),G30-H30,0) -> -1.7763568e-15 | J30: Wien | K30: 30 | M30: Vorschuß €810
A31: 46052 | B31: =TEXT(A31,"TTT") -> Fr | D31: 0.29166667 | E31: 0.5625 | G31: =IF(OR(C31="krank",C31="Urlaub",C31="Sonderurlaub"), H31,IF(D31<=E31,(E31-D31-F31)*24,(1-D31+E31-F31)*24)+IF(C31= "Urlaub halber Tag",H31/2,0)+IF(AND(C31="Urlaub halber Tag", J31="halber Arbeitstag"),H31/2,0)) -> 6.5 | H31: =IF(Q31<>"",Q31,IF(OR(C31="Feiertag",A31<Gesamt!$B$11,A31>Gesamt!$B$13,),0,INDIRECT("N"&WEEKDAY(A31,2)+19))) -> 6.5 | I31: =IF(OR(C31="Überstundenabbau",C31="Urlaub halber Tag",E31<>""),G31-H31,0) -> 0 | J31: Wien | K31: 30
A32: 46053 | B32: =TEXT(A32,"TTT") -> Sa | G32: =IF(OR(C32="krank",C32="Urlaub",C32="Sonderurlaub"), H32,IF(D32<=E32,(E32-D32-F32)*24,(1-D32+E32-F32)*24)+IF(C32= "Urlaub halber Tag",H32/2,0)+IF(AND(C32="Urlaub halber Tag", J32="halber Arbeitstag"),H32/2,0)) -> 0 | H32: =IF(Q32<>"",Q32,IF(OR(C32="Feiertag",A32<Gesamt!$B$11,A32>Gesamt!$B$13,),0,INDIRECT("N"&WEEKDAY(A32,2)+19))) -> 0 | I32: =IF(OR(C32="Überstundenabbau",C32="Urlaub halber Tag",E32<>""),G32-H32,0) -> 0 | K32: 30
J34: Summe: | K34: =SUM(K2:K33) -> 600 | L34: =SUM(L2:L33) -> 0

Sheet Februar
A1: Datum | B1: Tag | C1: Krank/Urlaub/Feiertag | D1: Kommen | E1: Gehen | F1: Pause | G1: Arbeitszeit | H1: Sollstunden | I1: Überstunden | J1: Bemerkungen | K1: Diäten | L1: Zimmergeld | M1: =TEXT(A2,"MMMM")&" "&YEAR(A2) -> Februar 2026 | Q1: Korrektur Soll
A2: 46054 | B2: =TEXT(A2,"TTT") -> So | G2: =IF(OR(C2="krank",C2="Urlaub",C2="Sonderurlaub"), H2,IF(D2<=E2,(E2-D2-F2)*24,(1-D2+E2-F2)*24)+IF(C2= "Urlaub halber Tag",H2/2,0)+IF(AND(C2="Urlaub halber Tag", J2="halber Arbeitstag"),H2/2,0)) -> 0 | H2: =IF(Q2<>"",Q2,IF(OR(C2="Feiertag",A2<Gesamt!$B$11,A2>Gesamt!$B$13,),0,INDIRECT("N"&WEEKDAY(A2,2)+19))) -> 0 | I2: =IF(OR(C2="Überstundenabbau",C2="Urlaub halber Tag",E2<>""),G2-H2,0) -> 0
A3: 46055 | B3: =TEXT(A3,"TTT") -> Mo | D3: 0.29166667 | E3: 0.66666667 | F3: 0.041666667 | G3: =IF(OR(C3="krank",C3="Urlaub",C3="Sonderurlaub"), H3,IF(D3<=E3,(E3-D3-F3)*24,(1-D3+E3-F3)*24)+IF(C3= "Urlaub halber Tag",H3/2,0)+IF(AND(C3="Urlaub halber Tag", J3="halber Arbeitstag"),H3/2,0)) -> 8 | H3: =IF(Q3<>"",Q3,IF(OR(C3="Feiertag",A3<Gesamt!$B$11,A3>Gesamt!$B$13,),0,INDIRECT("N"&WEEKDAY(A3,2)+19))) -> 8 | I3: =IF(OR(C3="Überstundenabbau",C3="Urlaub halber Tag",E3<>""),G3-H3,0) -> -1.7763568e-15 | J3: Wien | M3: =Gesamt!A3 -> Matija JELICIC
A4: 46056 | B4: =TEXT(A4,"TTT") -> Di | D4: 0.29166667 | E4: 0.66666667 | F4: 0.041666667 | G4: =IF(OR(C4="krank",C4="Urlaub",C4="Sonderurlaub"), H4,IF(D4<=E4,(E4-D4-F4)*24,(1-D4+E4-F4)*24)+IF(C4= "Urlaub halber Tag",H4/2,0)+IF(AND(C4="Urlaub halber Tag", J4="halber Arbeitstag"),H4/2,0)) -> 8 | H4: =IF(Q4<>"",Q4,IF(OR(C4="Feiertag",A4<Gesamt!$B$11,A4>Gesamt!$B$13,),0,INDIRECT("N"&WEEKDAY(A4,2)+19))) -> 8 | I4: =IF(OR(C4="Überstundenabbau",C4="Urlaub halber Tag",E4<>""),G4-H4,0) -> -1.7763568e-15 | J4: Wien
A5: 46057 | B5: =TEXT(A5,"TTT") -> Mi | D5: 0.29166667 | E5: 0.66666667 | F5: 0.041666667 | G5: =IF(OR(C5="krank",C5="Urlaub",C5="Sonderurlaub"), H5,IF(D5<=E5,(E5-D5-F5)*24,(1-D5+E5-F5)*24)+IF(C5= "Urlaub halber Tag",H5/2,0)+IF(AND(C5="Urlaub halber Tag", J5="halber Arbeitstag"),H5/2,0)) -> 8 | H5: =IF(Q5<>"",Q5,IF(OR(C5="Feiertag",A5<Gesamt!$B$11,A5>Gesamt!$B$13,),0,INDIRECT("N"&WEEKDAY(A5,2)+19))) -> 8 | I5: =IF(OR(C5="Überstundenabbau",C5="Urlaub halber Tag",E5<>""),G5-H5,0) -> -1.7763568e-15 | J5: Wien | M5: Überstunden Monat: | N5: =SUM(I2:I32) -> -2.8421709e-14
A6: 46058 | B6: =TEXT(A6,"TTT") -> Do | D6: 0.29166667 | E6: 0.66666667 | F6: 0.041666667 | G6: =IF(OR(C6="krank",C6="Urlaub",C6="Sonderurlaub"), H6,IF(D6<=E6,(E6-D6-F6)*24,(1-D6+E6-F6)*24)+IF(C6= "Urlaub halber Tag",H6/2,0)+IF(AND(C6="Urlaub halber Tag", J6="halber Arbeitstag"),H6/2,0)) -> 8 | H6: =IF(Q6<>"",Q6,IF(OR(C6="Feiertag",A6<Gesamt!$B$11,A6>Gesamt!$B$13,),0,INDIRECT("N"&WEEKDAY(A6,2)+19))) -> 8 | I6: =IF(OR(C6="Überstundenabbau",C6="Urlaub halber Tag",E6<>""),G6-H6,0) -> -1.7763568e-15 | J6: Wien
A7: 46059 | B7: =TEXT(A7,"TTT") -> Fr | D7: 0.29166667 | E7: 0.5625 | G7: =IF(OR(C7="krank",C7="Urlaub",C7="Sonderurlaub"), H7,IF(D7<=E7,(E7-D7-F7)*24,(1-D7+E7-F7)*24)+IF(C7= "Urlaub halber Tag",H7/2,0)+IF(AND(C7="Urlaub halber Tag", J7="halber Arbeitstag"),H7/2,0)) -> 6.5 | H7: =IF(Q7<>"",Q7,IF(OR(C7="Feiertag",A7<Gesamt!$B$11,A7>Gesamt!$B$13,),0,INDIRECT("N"&WEEKDAY(A7,2)+19))) -> 6.5 | I7: =IF(OR(C7="Überstundenabbau",C7="Urlaub halber Tag",E7<>""),G7-H7,0) -> 0 | J7: Wien | M7: Überstundenkonto: | N7: =Gesamt!B9+SUM(Gesamt!E2:E3)-SUM(Gesamt!J2:J3) -> -4.9737992e-14
A8: 46060 | B8: =TEXT(A8,"TTT") -> Sa | G8: =IF(OR(C8="krank",C8="Urlaub",C8="Sonderurlaub"), H8,IF(D8<=E8,(E8-D8-F8)*24,(1-D8+E8-F8)*24)+IF(C8= "Urlaub halber Tag",H8/2,0)+IF(AND(C8="Urlaub halber Tag", J8="halber Arbeitstag"),H8/2,0)) -> 0 | H8: =IF(Q8<>"",Q8,IF(OR(C8="Feiertag",A8<Gesamt!$B$11,A8>Gesamt!$B$13,),0,INDIRECT("N"&WEEKDAY(A8,2)+19))) -> 0 | I8: =IF(OR(C8="Überstundenabbau",C8="Urlaub halber Tag",E8<>""),G8-H8,0) -> 0 | J8: Wien
A9: 46061 | B9: =TEXT(A9,"TTT") -> So | G9: =IF(OR(C9="krank",C9="Urlaub",C9="Sonderurlaub"), H9,IF(D9<=E9,(E9-D9-F9)*24,(1-D9+E9-F9)*24)+IF(C9= "Urlaub halber Tag",H9/2,0)+IF(AND(C9="Urlaub halber Tag", J9="halber Arbeitstag"),H9/2,0)) -> 0 | H9: =IF(Q9<>"",Q9,IF(OR(C9="Feiertag",A9<Gesamt!$B$11,A9>Gesamt!$B$13,),0,INDIRECT("N"&WEEKDAY(A9,2)+19))) -> 0 | I9: =IF(OR(C9="Überstundenabbau",C9="Urlaub halber Tag",E9<>""),G9-H9,0) -> 0 | J9: Wien | M9: Kranktage Monat: | N9: =COUNTIF(C2:C32,"krank") -> 0
A10: 46062 | B10: =TEXT(A10,"TTT") -> Mo | D10: 0.29166667 | E10: 0.66666667 | F10: 0.041666667 | G10: =IF(OR(C10="krank",C10="Urlaub",C10="Sonderurlaub"), H10,IF(D10<=E10,(E10-D10-F10)*24,(1-D10+E10-F10)*24)+IF(C10= "Urlaub halber Tag",H10/2,0)+IF(AND(C10="Urlaub halber Tag", J10="halber Arbeitstag"),H10/2,0)) -> 8 | H10: =IF(Q10<>"",Q10,IF(OR(C10="Feiertag",A10<Gesamt!$B$11,A10>Gesamt!$B$13,),0,INDIRECT("N"&WEEKDAY(A10,2)+19))) -> 8 | I10: =IF(OR(C10="Überstundenabbau",C10="Urlaub halber Tag",E10<>""),G10-H10,0) -> -1.7763568e-15 | J10: Wien
A11: 46063 | B11: =TEXT(A11,"TTT") -> Di | D11: 0.29166667 | E11: 0.66666667 | F11: 0.041666667 | G11: =IF(OR(C11="krank",C11="Urlaub",C11="Sonderurlaub"), H11,IF(D11<=E11,(E11-D11-F11)*24,(1-D11+E11-F11)*24)+IF(C11= "Urlaub halber Tag",H11/2,0)+IF(AND(C11="Urlaub halber Tag", J11="halber Arbeitstag"),H11/2,0)) -> 8 | H11: =IF(Q11<>"",Q11,IF(OR(C11="Feiertag",A11<Gesamt!$B$11,A11>Gesamt!$B$13,),0,INDIRECT("N"&WEEKDAY(A11,2)+19))) -> 8 | I11: =IF(OR(C11="Überstundenabbau",C11="Urlaub halber Tag",E11<>""),G11-H11,0) -> -1.7763568e-15 | J11: Wien | M11: Kranktage Jahr bisher: | N11: =SUM(Gesamt!F2:F3) -> 0
A12: 46064 | B12: =TEXT(A12,"TTT") -> Mi | D12: 0.29166667 | E12: 0.66666667 | F12: 0.041666667 | G12: =IF(OR(C12="krank",C12="Urlaub",C12="Sonderurlaub"), H12,IF(D12<=E12,(E12-D12-F12)*24,(1-D12+E12-F12)*24)+IF(C12= "Urlaub halber Tag",H12/2,0)+IF(AND(C12="Urlaub halber Tag", J12="halber Arbeitstag"),H12/2,0)) -> 8 | H12: =IF(Q12<>"",Q12,IF(OR(C12="Feiertag",A12<Gesamt!$B$11,A12>Gesamt!$B$13,),0,INDIRECT("N"&WEEKDAY(A12,2)+19))) -> 8 | I12: =IF(OR(C12="Überstundenabbau",C12="Urlaub halber Tag",E12<>""),G12-H12,0) -> -1.7763568e-15 | J12: Wien
A13: 46065 | B13: =TEXT(A13,"TTT") -> Do | D13: 0.29166667 | E13: 0.66666667 | F13: 0.041666667 | G13: =IF(OR(C13="krank",C13="Urlaub",C13="Sonderurlaub"), H13,IF(D13<=E13,(E13-D13-F13)*24,(1-D13+E13-F13)*24)+IF(C13= "Urlaub halber Tag",H13/2,0)+IF(AND(C13="Urlaub halber Tag", J13="halber Arbeitstag"),H13/2,0)) -> 8 | H13: =IF(Q13<>"",Q13,IF(OR(C13="Feiertag",A13<Gesamt!$B$11,A13>Gesamt!$B$13,),0,INDIRECT("N"&WEEKDAY(A13,2)+19))) -> 8 | I13: =IF(OR(C13="Überstundenabbau",C13="Urlaub halber Tag",E13<>""),G13-H13,0) -> -1.7763568e-15 | J13: Wien | M13: Urlaubstage Monat: | N13: =COUNTIF(C2:C32, "Urlaub")+COUNTIF(C2:C32,"Urlaub halber Tag")/2 -> 0
A14: 46066 | B14: =TEXT(A14,"TTT") -> Fr | D14: 0.29166667 | E14: 0.5625 | G14: =IF(OR(C14="krank",C14="Urlaub",C14="Sonderurlaub"), H14,IF(D14<=E14,(E14-D14-F14)*24,(1-D14+E14-F14)*24)+IF(C14= "Urlaub halber Tag",H14/2,0)+IF(AND(C14="Urlaub halber Tag", J14="halber Arbeitstag"),H14/2,0)) -> 6.5 | H14: =IF(Q14<>"",Q14,IF(OR(C14="Feiertag",A14<Gesamt!$B$11,A14>Gesamt!$B$13,),0,INDIRECT("N"&WEEKDAY(A14,2)+19))) -> 6.5 | I14: =IF(OR(C14="Überstundenabbau",C14="Urlaub halber Tag",E14<>""),G14-H14,0) -> 0 | J14: Wien
A15: 46067 | B15: =TEXT(A15,"TTT") -> Sa | G15: =IF(OR(C15="krank",C15="Urlaub",C15="Sonderurlaub"), H15,IF(D15<=E15,(E15-D15-F15)*24,(1-D15+E15-F15)*24)+IF(C15= "Urlaub halber Tag",H15/2,0)+IF(AND(C15="Urlaub halber Tag", J15="halber Arbeitstag"),H15/2,0)) -> 0 | H15: =IF(Q15<>"",Q15,IF(OR(C15="Feiertag",A15<Gesamt!$B$11,A15>Gesamt!$B$13,),0,INDIRECT("N"&WEEKDAY(A15,2)+19))) -> 0 | I15: =IF(OR(C15="Überstundenabbau",C15="Urlaub halber Tag",E15<>""),G15-H15,0) -> 0 | J15: Wien | M15: Resturlaub am Monatsende: | N15: =Gesamt!B5+Gesamt!B7-SUM(Gesamt!G2:G3) -> 24
A16: 46068 | B16: =TEXT(A16,"TTT") -> So | G16: =IF(OR(C16="krank",C16="Urlaub",C16="Sonderurlaub"), H16,IF(D16<=E16,(E16-D16-F16)*24,(1-D16+E16-F16)*24)+IF(C16= "Urlaub halber Tag",H16/2,0)+IF(AND(C16="Urlaub halber Tag", J16="halber Arbeitstag"),H16/2,0)) -> 0 | H16: =IF(Q16<>"",Q16,IF(OR(C16="Feiertag",A16<Gesamt!$B$11,A16>Gesamt!$B$13,),0,INDIRECT("N"&WEEKDAY(A16,2)+19))) -> 0 | I16: =IF(OR(C16="Überstundenabbau",C16="Urlaub halber Tag",E16<>""),G16-H16,0) -> 0 | J16: Wien
A17: 46069 | B17: =TEXT(A17,"TTT") -> Mo | D17: 0.29166667 | E17: 0.66666667 | F17: 0.041666667 | G17: =IF(OR(C17="krank",C17="Urlaub",C17="Sonderurlaub"), H17,IF(D17<=E17,(E17-D17-F17)*24,(1-D17+E17-F17)*24)+IF(C17= "Urlaub halber Tag",H17/2,0)+IF(AND(C17="Urlaub halber Tag", J17="halber Arbeitstag"),H17/2,0)) -> 8 | H17: =IF(Q17<>"",Q17,IF(OR(C17="Feiertag",A17<Gesamt!$B$11,A17>Gesamt!$B$13,),0,INDIRECT("N"&WEEKDAY(A17,2)+19))) -> 8 | I17: =IF(OR(C17="Überstundenabbau",C17="Urlaub halber Tag",E17<>""),G17-H17,0) -> -1.7763568e-15 | J17: Wien | M17: Arbeitszeit Monat: | N17: =SUM(G2:G32) -> 154
A18: 46070 | B18: =TEXT(A18,"TTT") -> Di | D18: 0.29166667 | E18: 0.66666667 | F18: 0.041666667 | G18: =IF(OR(C18="krank",C18="Urlaub",C18="Sonderurlaub"), H18,IF(D18<=E18,(E18-D18-F18)*24,(1-D18+E18-F18)*24)+IF(C18= "Urlaub halber Tag",H18/2,0)+IF(AND(C18="Urlaub halber Tag", J18="halber Arbeitstag"),H18/2,0)) -> 8 | H18: =IF(Q18<>"",Q18,IF(OR(C18="Feiertag",A18<Gesamt!$B$11,A18>Gesamt!$B$13,),0,INDIRECT("N"&WEEKDAY(A18,2)+19))) -> 8 | I18: =IF(OR(C18="Überstundenabbau",C18="Urlaub halber Tag",E18<>""),G18-H18,0) -> -1.7763568e-15 | J18: Wien
A19: 46071 | B19: =TEXT(A19,"TTT") -> Mi | D19: 0.29166667 | E19: 0.66666667 | F19: 0.041666667 | G19: =IF(OR(C19="krank",C19="Urlaub",C19="Sonderurlaub"), H19,IF(D19<=E19,(E19-D19-F19)*24,(1-D19+E19-F19)*24)+IF(C19= "Urlaub halber Tag",H19/2,0)+IF(AND(C19="Urlaub halber Tag", J19="halber Arbeitstag"),H19/2,0)) -> 8 | H19: =IF(Q19<>"",Q19,IF(OR(C19="Feiertag",A19<Gesamt!$B$11,A19>Gesamt!$B$13,),0,INDIRECT("N"&WEEKDAY(A19,2)+19))) -> 8 | I19: =IF(OR(C19="Überstundenabbau",C19="Urlaub halber Tag",E19<>""),G19-H19,0) -> -1.7763568e-15 | J19: Wien | M19: Soll
A20: 46072 | B20: =TEXT(A20,"TTT") -> Do | D20: 0.29166667 | E20: 0.66666667 | F20: 0.041666667 | G20: =IF(OR(C20="krank",C20="Urlaub",C20="Sonderurlaub"), H20,IF(D20<=E20,(E20-D20-F20)*24,(1-D20+E20-F20)*24)+IF(C20= "Urlaub halber Tag",H20/2,0)+IF(AND(C20="Urlaub halber Tag", J20="halber Arbeitstag"),H20/2,0)) -> 8 | H20: =IF(Q20<>"",Q20,IF(OR(C20="Feiertag",A20<Gesamt!$B$11,A20>Gesamt!$B$13,),0,INDIRECT("N"&WEEKDAY(A20,2)+19))) -> 8 | I20: =IF(OR(C20="Überstundenabbau",C20="Urlaub halber Tag",E20<>""),G20-H20,0) -> -1.7763568e-15 | J20: Wien | M20: Montag | N20: =Gesamt!C30 -> 8
A21: 46073 | B21: =TEXT(A21,"TTT") -> Fr | D21: 0.29166667 | E21: 0.5625 | G21: =IF(OR(C21="krank",C21="Urlaub",C21="Sonderurlaub"), H21,IF(D21<=E21,(E21-D21-F21)*24,(1-D21+E21-F21)*24)+IF(C21= "Urlaub halber Tag",H21/2,0)+IF(AND(C21="Urlaub halber Tag", J21="halber Arbeitstag"),H21/2,0)) -> 6.5 | H21: =IF(Q21<>"",Q21,IF(OR(C21="Feiertag",A21<Gesamt!$B$11,A21>Gesamt!$B$13,),0,INDIRECT("N"&WEEKDAY(A21,2)+19))) -> 6.5 | I21: =IF(OR(C21="Überstundenabbau",C21="Urlaub halber Tag",E21<>""),G21-H21,0) -> 0 | J21: Wien | M21: Dienstag | N21: =Gesamt!C31 -> 8
A22: 46074 | B22: =TEXT(A22,"TTT") -> Sa | G22: =IF(OR(C22="krank",C22="Urlaub",C22="Sonderurlaub"), H22,IF(D22<=E22,(E22-D22-F22)*24,(1-D22+E22-F22)*24)+IF(C22= "Urlaub halber Tag",H22/2,0)+IF(AND(C22="Urlaub halber Tag", J22="halber Arbeitstag"),H22/2,0)) -> 0 | H22: =IF(Q22<>"",Q22,IF(OR(C22="Feiertag",A22<Gesamt!$B$11,A22>Gesamt!$B$13,),0,INDIRECT("N"&WEEKDAY(A22,2)+19))) -> 0 | I22: =IF(OR(C22="Überstundenabbau",C22="Urlaub halber Tag",E22<>""),G22-H22,0) -> 0 | J22: Wien | M22: Mittwoch | N22: =Gesamt!C32 -> 8
A23: 46075 | B23: =TEXT(A23,"TTT") -> So | G23: =IF(OR(C23="krank",C23="Urlaub",C23="Sonderurlaub"), H23,IF(D23<=E23,(E23-D23-F23)*24,(1-D23+E23-F23)*24)+IF(C23= "Urlaub halber Tag",H23/2,0)+IF(AND(C23="Urlaub halber Tag", J23="halber Arbeitstag"),H23/2,0)) -> 0 | H23: =IF(Q23<>"",Q23,IF(OR(C23="Feiertag",A23<Gesamt!$B$11,A23>Gesamt!$B$13,),0,INDIRECT("N"&WEEKDAY(A23,2)+19))) -> 0 | I23: =IF(OR(C23="Überstundenabbau",C23="Urlaub halber Tag",E23<>""),G23-H23,0) -> 0 | J23: Wien | M23: Donnerstag | N23: =Gesamt!C33 -> 8
A24: 46076 | B24: =TEXT(A24,"TTT") -> Mo | D24: 0.29166667 | E24: 0.66666667 | F24: 0.041666667 | G24: =IF(OR(C24="krank",C24="Urlaub",C24="Sonderurlaub"), H24,IF(D24<=E24,(E24-D24-F24)*24,(1-D24+E24-F24)*24)+IF(C24= "Urlaub halber Tag",H24/2,0)+IF(AND(C24="Urlaub halber Tag", J24="halber Arbeitstag"),H24/2,0)) -> 8 | H24: =IF(Q24<>"",Q24,IF(OR(C24="Feiertag",A24<Gesamt!$B$11,A24>Gesamt!$B$13,),0,INDIRECT("N"&WEEKDAY(A24,2)+19))) -> 8 | I24: =IF(OR(C24="Überstundenabbau",C24="Urlaub halber Tag",E24<>""),G24-H24,0) -> -1.7763568e-15 | J24: Wien | K24: 30 | M24: Freitag | N24: =Gesamt!C34 -> 6.5
A25: 46077 | B25: =TEXT(A25,"TTT") -> Di | D25: 0.29166667 | E25: 0.66666667 | F25: 0.041666667 | G25: =IF(OR(C25="krank",C25="Urlaub",C25="Sonderurlaub"), H25,IF(D25<=E25,(E25-D25-F25)*24,(1-D25+E25-F25)*24)+IF(C25= "Urlaub halber Tag",H25/2,0)+IF(AND(C25="Urlaub halber Tag", J25="halber Arbeitstag"),H25/2,0)) -> 8 | H25: =IF(Q25<>"",Q25,IF(OR(C25="Feiertag",A25<Gesamt!$B$11,A25>Gesamt!$B$13,),0,INDIRECT("N"&WEEKDAY(A25,2)+19))) -> 8 | I25: =IF(OR(C25="Überstundenabbau",C25="Urlaub halber Tag",E25<>""),G25-H25,0) -> -1.7763568e-15 | J25: Wien | K25: 30 | M25: Samstag | N25: =Gesamt!C35 -> 0
A26: 46078 | B26: =TEXT(A26,"TTT") -> Mi | D26: 0.29166667 | E26: 0.66666667 | F26: 0.041666667 | G26: =IF(OR(C26="krank",C26="Urlaub",C26="Sonderurlaub"), H26,IF(D26<=E26,(E26-D26-F26)*24,(1-D26+E26-F26)*24)+IF(C26= "Urlaub halber Tag",H26/2,0)+IF(AND(C26="Urlaub halber Tag", J26="halber Arbeitstag"),H26/2,0)) -> 8 | H26: =IF(Q26<>"",Q26,IF(OR(C26="Feiertag",A26<Gesamt!$B$11,A26>Gesamt!$B$13,),0,INDIRECT("N"&WEEKDAY(A26,2)+19))) -> 8 | I26: =IF(OR(C26="Überstundenabbau",C26="Urlaub halber Tag",E26<>""),G26-H26,0) -> -1.7763568e-15 | J26: Wien | K26: 30 | M26: Sonntag | N26: =Gesamt!C36 -> 0
A27: 46079 | B27: =TEXT(A27,"TTT") -> Do | D27: 0.29166667 | E27: 0.66666667 | F27: 0.041666667 | G27: =IF(OR(C27="krank",C27="Urlaub",C27="Sonderurlaub"), H27,IF(D27<=E27,(E27-D27-F27)*24,(1-D27+E27-F27)*24)+IF(C27= "Urlaub halber Tag",H27/2,0)+IF(AND(C27="Urlaub halber Tag", J27="halber Arbeitstag"),H27/2,0)) -> 8 | H27: =IF(Q27<>"",Q27,IF(OR(C27="Feiertag",A27<Gesamt!$B$11,A27>Gesamt!$B$13,),0,INDIRECT("N"&WEEKDAY(A27,2)+19))) -> 8 | I27: =IF(OR(C27="Überstundenabbau",C27="Urlaub halber Tag",E27<>""),G27-H27,0) -> -1.7763568e-15 | J27: Wien | K27: 30 | M27: Wochenarbeitszeit | N27: =SUM(N20:N26) -> 38.5
A28: 46080 | B28: =TEXT(A28,"TTT") -> Fr | D28: 0.29166667 | E28: 0.5625 | G28: =IF(OR(C28="krank",C28="Urlaub",C28="Sonderurlaub"), H28,IF(D28<=E28,(E28-D28-F28)*24,(1-D28+E28-F28)*24)+IF(C28= "Urlaub halber Tag",H28/2,0)+IF(AND(C28="Urlaub halber Tag", J28="halber Arbeitstag"),H28/2,0)) -> 6.5 | H28: =IF(Q28<>"",Q28,IF(OR(C28="Feiertag",A28<Gesamt!$B$11,A28>Gesamt!$B$13,),0,INDIRECT("N"&WEEKDAY(A28,2)+19))) -> 6.5 | I28: =IF(OR(C28="Überstundenabbau",C28="Urlaub halber Tag",E28<>""),G28-H28,0) -> 0 | J28: Wien | K28: 30
A29: 46081 | B29: =TEXT(A29,"TTT") -> Sa | G29: =IF(OR(C29="krank",C29="Urlaub",C29="Sonderurlaub"), H29,IF(D29<=E29,(E29-D29-F29)*24,(1-D29+E29-F29)*24)+IF(C29= "Urlaub halber Tag",H29/2,0)+IF(AND(C29="Urlaub halber Tag", J29="halber Arbeitstag"),H29/2,0)) -> 0 | H29: =IF(Q29<>"",Q29,IF(OR(C29="Feiertag",A29<Gesamt!$B$11,A29>Gesamt!$B$13,),0,INDIRECT("N"&WEEKDAY(A29,2)+19))) -> 0 | I29: =IF(OR(C29="Überstundenabbau",C29="Urlaub halber Tag",E29<>""),G29-H29,0) -> 0 | J29: Wien
M30: Vorschuß € 810,00
J31: Summe: | K31: =SUM(K2:K30) -> 150 | L31: =SUM(L2:L30) -> 0

Sheet März
A1: Datum | B1: Tag | C1: Krank/Urlaub/Feiertag | D1: Kommen | E1: Gehen | F1: Pause | G1: Arbeitszeit | H1: Sollstunden | I1: Überstunden | J1: Bemerkungen | K1: Diäten | L1: Zimmergeld | M1: =TEXT(A2,"MMMM")&" "&YEAR(A2) -> März 2026 | Q1: Korrektur Soll
A2: 46082 | B2: =TEXT(A2,"TTT") -> So | G2: =IF(OR(C2="krank",C2="Urlaub",C2="Sonderurlaub"), H2,IF(D2<=E2,(E2-D2-F2)*24,(1-D2+E2-F2)*24)+IF(C2= "Urlaub halber Tag",H2/2,0)+IF(AND(C2="Urlaub halber Tag", J2="halber Arbeitstag"),H2/2,0)) -> 0 | H2: =IF(Q2<>"",Q2,IF(OR(C2="Feiertag",A2<Gesamt!$B$11,A2>Gesamt!$B$13,),0,INDIRECT("N"&WEEKDAY(A2,2)+19))) -> 0 | I2: =IF(OR(C2="Überstundenabbau",C2="Urlaub halber Tag",E2<>""),G2-H2,0) -> 0
A3: 46083 | B3: =TEXT(A3,"TTT") -> Mo | D3: 0.29166667 | E3: 0.66666667 | F3: 0.041666667 | G3: =IF(OR(C3="krank",C3="Urlaub",C3="Sonderurlaub"), H3,IF(D3<=E3,(E3-D3-F3)*24,(1-D3+E3-F3)*24)+IF(C3= "Urlaub halber Tag",H3/2,0)+IF(AND(C3="Urlaub halber Tag", J3="halber Arbeitstag"),H3/2,0)) -> 8 | H3: =IF(Q3<>"",Q3,IF(OR(C3="Feiertag",A3<Gesamt!$B$11,A3>Gesamt!$B$13,),0,INDIRECT("N"&WEEKDAY(A3,2)+19))) -> 8 | I3: =IF(OR(C3="Überstundenabbau",C3="Urlaub halber Tag",E3<>""),G3-H3,0) -> -1.7763568e-15 | J3: Wien | K3: 30 | L3: 17 | M3: =Gesamt!A3 -> Matija JELICIC
A4: 46084 | B4: =TEXT(A4,"TTT") -> Di | D4: 0.29166667 | E4: 0.66666667 | F4: 0.041666667 | G4: =IF(OR(C4="krank",C4="Urlaub",C4="Sonderurlaub"), H4,IF(D4<=E4,(E4-D4-F4)*24,(1-D4+E4-F4)*24)+IF(C4= "Urlaub halber Tag",H4/2,0)+IF(AND(C4="Urlaub halber Tag", J4="halber Arbeitstag"),H4/2,0)) -> 8 | H4: =IF(Q4<>"",Q4,IF(OR(C4="Feiertag",A4<Gesamt!$B$11,A4>Gesamt!$B$13,),0,INDIRECT("N"&WEEKDAY(A4,2)+19))) -> 8 | I4: =IF(OR(C4="Überstundenabbau",C4="Urlaub halber Tag",E4<>""),G4-H4,0) -> -1.7763568e-15 | J4: Wien | K4: 30 | L4: 17
A5: 46085 | B5: =TEXT(A5,"TTT") -> Mi | D5: 0.29166667 | E5: 0.66666667 | F5: 0.041666667 | G5: =IF(OR(C5="krank",C5="Urlaub",C5="Sonderurlaub"), H5,IF(D5<=E5,(E5-D5-F5)*24,(1-D5+E5-F5)*24)+IF(C5= "Urlaub halber Tag",H5/2,0)+IF(AND(C5="Urlaub halber Tag", J5="halber Arbeitstag"),H5/2,0)) -> 8 | H5: =IF(Q5<>"",Q5,IF(OR(C5="Feiertag",A5<Gesamt!$B$11,A5>Gesamt!$B$13,),0,INDIRECT("N"&WEEKDAY(A5,2)+19))) -> 8 | I5: =IF(OR(C5="Überstundenabbau",C5="Urlaub halber Tag",E5<>""),G5-H5,0) -> -1.7763568e-15 | J5: Wien | K5: 30 | L5: 17 | M5: Überstunden Monat: | N5: =SUM(I2:I32) -> -3.1974423e-14
A6: 46086 | B6: =TEXT(A6,"TTT") -> Do | D6: 0.29166667 | E6: 0.66666667 | F6: 0.041666667 | G6: =IF(OR(C6="krank",C6="Urlaub",C6="Sonderurlaub"), H6,IF(D6<=E6,(E6-D6-F6)*24,(1-D6+E6-F6)*24)+IF(C6= "Urlaub halber Tag",H6/2,0)+IF(AND(C6="Urlaub halber Tag", J6="halber Arbeitstag"),H6/2,0)) -> 8 | H6: =IF(Q6<>"",Q6,IF(OR(C6="Feiertag",A6<Gesamt!$B$11,A6>Gesamt!$B$13,),0,INDIRECT("N"&WEEKDAY(A6,2)+19))) -> 8 | I6: =IF(OR(C6="Überstundenabbau",C6="Urlaub halber Tag",E6<>""),G6-H6,0) -> -1.7763568e-15 | J6: Wien | K6: 30 | L6: 17
A7: 46087 | B7: =TEXT(A7,"TTT") -> Fr | D7: 0.29166667 | E7: 0.5625 | G7: =IF(OR(C7="krank",C7="Urlaub",C7="Sonderurlaub"), H7,IF(D7<=E7,(E7-D7-F7)*24,(1-D7+E7-F7)*24)+IF(C7= "Urlaub halber Tag",H7/2,0)+IF(AND(C7="Urlaub halber Tag", J7="halber Arbeitstag"),H7/2,0)) -> 6.5 | H7: =IF(Q7<>"",Q7,IF(OR(C7="Feiertag",A7<Gesamt!$B$11,A7>Gesamt!$B$13,),0,INDIRECT("N"&WEEKDAY(A7,2)+19))) -> 6.5 | I7: =IF(OR(C7="Überstundenabbau",C7="Urlaub halber Tag",E7<>""),G7-H7,0) -> 0 | J7: Wien | M7: Überstundenkonto: | N7: =Gesamt!B9+SUM(Gesamt!E2:E4)-SUM(Gesamt!J2:J4) -> -8.1712415e-14
A8: 46088 | B8: =TEXT(A8,"TTT") -> Sa | G8: =IF(OR(C8="krank",C8="Urlaub",C8="Sonderurlaub"), H8,IF(D8<=E8,(E8-D8-F8)*24,(1-D8+E8-F8)*24)+IF(C8= "Urlaub halber Tag",H8/2,0)+IF(AND(C8="Urlaub halber Tag", J8="halber Arbeitstag"),H8/2,0)) -> 0 | H8: =IF(Q8<>"",Q8,IF(OR(C8="Feiertag",A8<Gesamt!$B$11,A8>Gesamt!$B$13,),0,INDIRECT("N"&WEEKDAY(A8,2)+19))) -> 0 | I8: =IF(OR(C8="Überstundenabbau",C8="Urlaub halber Tag",E8<>""),G8-H8,0) -> 0
A9: 46089 | B9: =TEXT(A9,"TTT") -> So | G9: =IF(OR(C9="krank",C9="Urlaub",C9="Sonderurlaub"), H9,IF(D9<=E9,(E9-D9-F9)*24,(1-D9+E9-F9)*24)+IF(C9= "Urlaub halber Tag",H9/2,0)+IF(AND(C9="Urlaub halber Tag", J9="halber Arbeitstag"),H9/2,0)) -> 0 | H9: =IF(Q9<>"",Q9,IF(OR(C9="Feiertag",A9<Gesamt!$B$11,A9>Gesamt!$B$13,),0,INDIRECT("N"&WEEKDAY(A9,2)+19))) -> 0 | I9: =IF(OR(C9="Überstundenabbau",C9="Urlaub halber Tag",E9<>""),G9-H9,0) -> 0 | M9: Kranktage Monat: | N9: =COUNTIF(C2:C32,"krank") -> 0
A10: 46090 | B10: =TEXT(A10,"TTT") -> Mo | D10: 0.29166667 | E10: 0.66666667 | F10: 0.041666667 | G10: =IF(OR(C10="krank",C10="Urlaub",C10="Sonderurlaub"), H10,IF(D10<=E10,(E10-D10-F10)*24,(1-D10+E10-F10)*24)+IF(C10= "Urlaub halber Tag",H10/2,0)+IF(AND(C10="Urlaub halber Tag", J10="halber Arbeitstag"),H10/2,0)) -> 8 | H10: =IF(Q10<>"",Q10,IF(OR(C10="Feiertag",A10<Gesamt!$B$11,A10>Gesamt!$B$13,),0,INDIRECT("N"&WEEKDAY(A10,2)+19))) -> 8 | I10: =IF(OR(C10="Überstundenabbau",C10="Urlaub halber Tag",E10<>""),G10-H10,0) -> -1.7763568e-15 | J10: Wien | K10: 30 | L10: 17
A11: 46091 | B11: =TEXT(A11,"TTT") -> Di | D11: 0.29166667 | E11: 0.66666667 | F11: 0.041666667 | G11: =IF(OR(C11="krank",C11="Urlaub",C11="Sonderurlaub"), H11,IF(D11<=E11,(E11-D11-F11)*24,(1-D11+E11-F11)*24)+IF(C11= "Urlaub halber Tag",H11/2,0)+IF(AND(C11="Urlaub halber Tag", J11="halber Arbeitstag"),H11/2,0)) -> 8 | H11: =IF(Q11<>"",Q11,IF(OR(C11="Feiertag",A11<Gesamt!$B$11,A11>Gesamt!$B$13,),0,INDIRECT("N"&WEEKDAY(A11,2)+19))) -> 8 | I11: =IF(OR(C11="Überstundenabbau",C11="Urlaub halber Tag",E11<>""),G11-H11,0) -> -1.7763568e-15 | J11: Wien | K11: 30 | L11: 17 | M11: Kranktage Jahr bisher: | N11: =SUM(Gesamt!F2:F4) -> 0
A12: 46092 | B12: =TEXT(A12,"TTT") -> Mi | D12: 0.29166667 | E12: 0.66666667 | F12: 0.041666667 | G12: =IF(OR(C12="krank",C12="Urlaub",C12="Sonderurlaub"), H12,IF(D12<=E12,(E12-D12-F12)*24,(1-D12+E12-F12)*24)+IF(C12= "Urlaub halber Tag",H12/2,0)+IF(AND(C12="Urlaub halber Tag", J12="halber Arbeitstag"),H12/2,0)) -> 8 | H12: =IF(Q12<>"",Q12,IF(OR(C12="Feiertag",A12<Gesamt!$B$11,A12>Gesamt!$B$13,),0,INDIRECT("N"&WEEKDAY(A12,2)+19))) -> 8 | I12: =IF(OR(C12="Überstundenabbau",C12="Urlaub halber Tag",E12<>""),G12-H12,0) -> -1.7763568e-15 | J12: Wien | K12: 30 | L12: 17
A13: 46093 | B13: =TEXT(A13,"TTT") -> Do | D13: 0.29166667 | E13: 0.66666667 | F13: 0.041666667 | G13: =IF(OR(C13="krank",C13="Urlaub",C13="Sonderurlaub"), H13,IF(D13<=E13,(E13-D13-F13)*24,(1-D13+E13-F13)*24)+IF(C13= "Urlaub halber Tag",H13/2,0)+IF(AND(C13="Urlaub halber Tag", J13="halber Arbeitstag"),H13/2,0)) -> 8 | H13: =IF(Q13<>"",Q13,IF(OR(C13="Feiertag",A13<Gesamt!$B$11,A13>Gesamt!$B$13,),0,INDIRECT("N"&WEEKDAY(A13,2)+19))) -> 8 | I13: =IF(OR(C13="Überstundenabbau",C13="Urlaub halber Tag",E13<>""),G13-H13,0) -> -1.7763568e-15 | J13: Wien | K13: 30 | L13: 17 | M13: Urlaubstage Monat: | N13: =COUNTIF(C2:C32, "Urlaub")+COUNTIF(C2:C32,"Urlaub halber Tag")/2 -> 0
A14: 46094 | B14: =TEXT(A14,"TTT") -> Fr | D14: 0.29166667 | E14: 0.5625 | G14: =IF(OR(C14="krank",C14="Urlaub",C14="Sonderurlaub"), H14,IF(D14<=E14,(E14-D14-F14)*24,(1-D14+E14-F14)*24)+IF(C14= "Urlaub halber Tag",H14/2,0)+IF(AND(C14="Urlaub halber Tag", J14="halber Arbeitstag"),H14/2,0)) -> 6.5 | H14: =IF(Q14<>"",Q14,IF(OR(C14="Feiertag",A14<Gesamt!$B$11,A14>Gesamt!$B$13,),0,INDIRECT("N"&WEEKDAY(A14,2)+19))) -> 6.5 | I14: =IF(OR(C14="Überstundenabbau",C14="Urlaub halber Tag",E14<>""),G14-H14,0) -> 0 | J14: Wien
A15: 46095 | B15: =TEXT(A15,"TTT") -> Sa | G15: =IF(OR(C15="krank",C15="Urlaub",C15="Sonderurlaub"), H15,IF(D15<=E15,(E15-D15-F15)*24,(1-D15+E15-F15)*24)+IF(C15= "Urlaub halber Tag",H15/2,0)+IF(AND(C15="Urlaub halber Tag", J15="halber Arbeitstag"),H15/2,0)) -> 0 | H15: =IF(Q15<>"",Q15,IF(OR(C15="Feiertag",A15<Gesamt!$B$11,A15>Gesamt!$B$13,),0,INDIRECT("N"&WEEKDAY(A15,2)+19))) -> 0 | I15: =IF(OR(C15="Überstundenabbau",C15="Urlaub halber Tag",E15<>""),G15-H15,0) -> 0 | M15: Resturlaub am Monatsende: | N15: =Gesamt!B5+Gesamt!B7-SUM(Gesamt!G2:G4) -> 24
A16: 46096 | B16: =TEXT(A16,"TTT") -> So | G16: =IF(OR(C16="krank",C16="Urlaub",C16="Sonderurlaub"), H16,IF(D16<=E16,(E16-D16-F16)*24,(1-D16+E16-F16)*24)+IF(C16= "Urlaub halber Tag",H16/2,0)+IF(AND(C16="Urlaub halber Tag", J16="halber Arbeitstag"),H16/2,0)) -> 0 | H16: =IF(Q16<>"",Q16,IF(OR(C16="Feiertag",A16<Gesamt!$B$11,A16>Gesamt!$B$13,),0,INDIRECT("N"&WEEKDAY(A16,2)+19))) -> 0 | I16: =IF(OR(C16="Überstundenabbau",C16="Urlaub halber Tag",E16<>""),G16-H16,0) -> 0
A17: 46097 | B17: =TEXT(A17,"TTT") -> Mo | D17: 0.29166667 | E17: 0.66666667 | F17: 0.041666667 | G17: =IF(OR(C17="krank",C17="Urlaub",C17="Sonderurlaub"), H17,IF(D17<=E17,(E17-D17-F17)*24,(1-D17+E17-F17)*24)+IF(C17= "Urlaub halber Tag",H17/2,0)+IF(AND(C17="Urlaub halber Tag", J17="halber Arbeitstag"),H17/2,0)) -> 8 | H17: =IF(Q17<>"",Q17,IF(OR(C17="Feiertag",A17<Gesamt!$B$11,A17>Gesamt!$B$13,),0,INDIRECT("N"&WEEKDAY(A17,2)+19))) -> 8 | I17: =IF(OR(C17="Überstundenabbau",C17="Urlaub halber Tag",E17<>""),G17-H17,0) -> -1.7763568e-15 | J17: Wien | K17: 30 | L17: 17 | M17: Arbeitszeit Monat: | N17: =SUM(G2:G32) -> 170
A18: 46098 | B18: =TEXT(A18,"TTT") -> Di | D18: 0.29166667 | E18: 0.66666667 | F18: 0.041666667 | G18: =IF(OR(C18="krank",C18="Urlaub",C18="Sonderurlaub"), H18,IF(D18<=E18,(E18-D18-F18)*24,(1-D18+E18-F18)*24)+IF(C18= "Urlaub halber Tag",H18/2,0)+IF(AND(C18="Urlaub halber Tag", J18="halber Arbeitstag"),H18/2,0)) -> 8 | H18: =IF(Q18<>"",Q18,IF(OR(C18="Feiertag",A18<Gesamt!$B$11,A18>Gesamt!$B$13,),0,INDIRECT("N"&WEEKDAY(A18,2)+19))) -> 8 | I18: =IF(OR(C18="Überstundenabbau",C18="Urlaub halber Tag",E18<>""),G18-H18,0) -> -1.7763568e-15 | J18: Wien | K18: 30 | L18: 17
A19: 46099 | B19: =TEXT(A19,"TTT") -> Mi | D19: 0.29166667 | E19: 0.66666667 | F19: 0.041666667 | G19: =IF(OR(C19="krank",C19="Urlaub",C19="Sonderurlaub"), H19,IF(D19<=E19,(E19-D19-F19)*24,(1-D19+E19-F19)*24)+IF(C19= "Urlaub halber Tag",H19/2,0)+IF(AND(C19="Urlaub halber Tag", J19="halber Arbeitstag"),H19/2,0)) -> 8 | H19: =IF(Q19<>"",Q19,IF(OR(C19="Feiertag",A19<Gesamt!$B$11,A19>Gesamt!$B$13,),0,INDIRECT("N"&WEEKDAY(A19,2)+19))) -> 8 | I19: =IF(OR(C19="Überstundenabbau",C19="Urlaub halber Tag",E19<>""),G19-H19,0) -> -1.7763568e-15 | J19: Wien | K19: 30 | L19: 17 | M19: Soll
A20: 46100 | B20: =TEXT(A20,"TTT") -> Do | D20: 0.29166667 | E20: 0.66666667 | F20: 0.041666667 | G20: =IF(OR(C20="krank",C20="Urlaub",C20="Sonderurlaub"), H20,IF(D20<=E20,(E20-D20-F20)*24,(1-D20+E20-F20)*24)+IF(C20= "Urlaub halber Tag",H20/2,0)+IF(AND(C20="Urlaub halber Tag", J20="halber Arbeitstag"),H20/2,0)) -> 8 | H20: =IF(Q20<>"",Q20,IF(OR(C20="Feiertag",A20<Gesamt!$B$11,A20>Gesamt!$B$13,),0,INDIRECT("N"&WEEKDAY(A20,2)+19))) -> 8 | I20: =IF(OR(C20="Überstundenabbau",C20="Urlaub halber Tag",E20<>""),G20-H20,0) -> -1.7763568e-15 | J20: Wien | K20: 30 | L20: 17 | M20: Montag | N20: =Gesamt!C30 -> 8
A21: 46101 | B21: =TEXT(A21,"TTT") -> Fr | D21: 0.29166667 | E21: 0.5625 | G21: =IF(OR(C21="krank",C21="Urlaub",C21="Sonderurlaub"), H21,IF(D21<=E21,(E21-D21-F21)*24,(1-D21+E21-F21)*24)+IF(C21= "Urlaub halber Tag",H21/2,0)+IF(AND(C21="Urlaub halber Tag", J21="halber Arbeitstag"),H21/2,0)) -> 6.5 | H21: =IF(Q21<>"",Q21,IF(OR(C21="Feiertag",A21<Gesamt!$B$11,A21>Gesamt!$B$13,),0,INDIRECT("N"&WEEKDAY(A21,2)+19))) -> 6.5 | I21: =IF(OR(C21="Überstundenabbau",C21="Urlaub halber Tag",E21<>""),G21-H21,0) -> 0 | J21: Wien | M21: Dienstag | N21: =Gesamt!C31 -> 8
A22: 46102 | B22: =TEXT(A22,"TTT") -> Sa | G22: =IF(OR(C22="krank",C22="Urlaub",C22="Sonderurlaub"), H22,IF(D22<=E22,(E22-D22-F22)*24,(1-D22+E22-F22)*24)+IF(C22= "Urlaub halber Tag",H22/2,0)+IF(AND(C22="Urlaub halber Tag", J22="halber Arbeitstag"),H22/2,0)) -> 0 | H22: =IF(Q22<>"",Q22,IF(OR(C22="Feiertag",A22<Gesamt!$B$11,A22>Gesamt!$B$13,),0,INDIRECT("N"&WEEKDAY(A22,2)+19))) -> 0 | I22: =IF(OR(C22="Überstundenabbau",C22="Urlaub halber Tag",E22<>""),G22-H22,0) -> 0 | M22: Mittwoch | N22: =Gesamt!C32 -> 8
A23: 46103 | B23: =TEXT(A23,"TTT") -> So | G23: =IF(OR(C23="krank",C23="Urlaub",C23="Sonderurlaub"), H23,IF(D23<=E23,(E23-D23-F23)*24,(1-D23+E23-F23)*24)+IF(C23= "Urlaub halber Tag",H23/2,0)+IF(AND(C23="Urlaub halber Tag", J23="halber Arbeitstag"),H23/2,0)) -> 0 | H23: =IF(Q23<>"",Q23,IF(OR(C23="Feiertag",A23<Gesamt!$B$11,A23>Gesamt!$B$13,),0,INDIRECT("N"&WEEKDAY(A23,2)+19))) -> 0 | I23: =IF(OR(C23="Überstundenabbau",C23="Urlaub halber Tag",E23<>""),G23-H23,0) -> 0 | M23: Donnerstag | N23: =Gesamt!C33 -> 8
A24: 46104 | B24: =TEXT(A24,"TTT") -> Mo | D24: 0.29166667 | E24: 0.66666667 | F24: 0.041666667 | G24: =IF(OR(C24="krank",C24="Urlaub",C24="Sonderurlaub"), H24,IF(D24<=E24,(E24-D24-F24)*24,(1-D24+E24-F24)*24)+IF(C24= "Urlaub halber Tag",H24/2,0)+IF(AND(C24="Urlaub halber Tag", J24="halber Arbeitstag"),H24/2,0)) -> 8 | H24: =IF(Q24<>"",Q24,IF(OR(C24="Feiertag",A24<Gesamt!$B$11,A24>Gesamt!$B$13,),0,INDIRECT("N"&WEEKDAY(A24,2)+19))) -> 8 | I24: =IF(OR(C24="Überstundenabbau",C24="Urlaub halber Tag",E24<>""),G24-H24,0) -> -1.7763568e-15 | J24: Wien | K24: 30 | L24: 17 | M24: Freitag | N24: =Gesamt!C34 -> 6.5
A25: 46105 | B25: =TEXT(A25,"TTT") -> Di | D25: 0.29166667 | E25: 0.66666667 | F25: 0.041666667 | G25: =IF(OR(C25="krank",C25="Urlaub",C25="Sonderurlaub"), H25,IF(D25<=E25,(E25-D25-F25)*24,(1-D25+E25-F25)*24)+IF(C25= "Urlaub halber Tag",H25/2,0)+IF(AND(C25="Urlaub halber Tag", J25="halber Arbeitstag"),H25/2,0)) -> 8 | H25: =IF(Q25<>"",Q25,IF(OR(C25="Feiertag",A25<Gesamt!$B$11,A25>Gesamt!$B$13,),0,INDIRECT("N"&WEEKDAY(A25,2)+19))) -> 8 | I25: =IF(OR(C25="Überstundenabbau",C25="Urlaub halber Tag",E25<>""),G25-H25,0) -> -1.7763568e-15 | J25: Wien | K25: 30 | L25: 17 | M25: Samstag | N25: =Gesamt!C35 -> 0
A26: 46106 | B26: =TEXT(A26,"TTT") -> Mi | D26: 0.29166667 | E26: 0.66666667 | F26: 0.041666667 | G26: =IF(OR(C26="krank",C26="Urlaub",C26="Sonderurlaub"), H26,IF(D26<=E26,(E26-D26-F26)*24,(1-D26+E26-F26)*24)+IF(C26= "Urlaub halber Tag",H26/2,0)+IF(AND(C26="Urlaub halber Tag", J26="halber Arbeitstag"),H26/2,0)) -> 8 | H26: =IF(Q26<>"",Q26,IF(OR(C26="Feiertag",A26<Gesamt!$B$11,A26>Gesamt!$B$13,),0,INDIRECT("N"&WEEKDAY(A26,2)+19))) -> 8 | I26: =IF(OR(C26="Überstundenabbau",C26="Urlaub halber Tag",E26<>""),G26-H26,0) -> -1.7763568e-15 | J26: Wien | K26: 30 | L26: 17 | M26: Sonntag | N26: =Gesamt!C36 -> 0
A27: 46107 | B27: =TEXT(A27,"TTT") -> Do | D27: 0.29166667 | E27: 0.66666667 | F27: 0.041666667 | G27: =IF(OR(C27="krank",C27="Urlaub",C27="Sonderurlaub"), H27,IF(D27<=E27,(E27-D27-F27)*24,(1-D27+E27-F27)*24)+IF(C27= "Urlaub halber Tag",H27/2,0)+IF(AND(C27="Urlaub halber Tag", J27="halber Arbeitstag"),H27/2,0)) -> 8 | H27: =IF(Q27<>"",Q27,IF(OR(C27="Feiertag",A27<Gesamt!$B$11,A27>Gesamt!$B$13,),0,INDIRECT("N"&WEEKDAY(A27,2)+19))) -> 8 | I27: =IF(OR(C27="Überstundenabbau",C27="Urlaub halber Tag",E27<>""),G27-H27,0) -> -1.7763568e-15 | J27: Wien | K27: 30 | L27: 17 | M27: Wochenarbeitszeit | N27: =SUM(N20:N26) -> 38.5
A28: 46108 | B28: =TEXT(A28,"TTT") -> Fr | D28: 0.29166667 | E28: 0.5625 | G28: =IF(OR(C28="krank",C28="Urlaub",C28="Sonderurlaub"), H28,IF(D28<=E28,(E28-D28-F28)*24,(1-D28+E28-F28)*24)+IF(C28= "Urlaub halber Tag",H28/2,0)+IF(AND(C28="Urlaub halber Tag", J28="halber Arbeitstag"),H28/2,0)) -> 6.5 | H28: =IF(Q28<>"",Q28,IF(OR(C28="Feiertag",A28<Gesamt!$B$11,A28>Gesamt!$B$13,),0,INDIRECT("N"&WEEKDAY(A28,2)+19))) -> 6.5 | I28: =IF(OR(C28="Überstundenabbau",C28="Urlaub halber Tag",E28<>""),G28-H28,0) -> 0 | J28: Wien
A29: 46109 | B29: =TEXT(A29,"TTT") -> Sa | G29: =IF(OR(C29="krank",C29="Urlaub",C29="Sonderurlaub"), H29,IF(D29<=E29,(E29-D29-F29)*24,(1-D29+E29-F29)*24)+IF(C29= "Urlaub halber Tag",H29/2,0)+IF(AND(C29="Urlaub halber Tag", J29="halber Arbeitstag"),H29/2,0)) -> 0 | H29: =IF(Q29<>"",Q29,IF(OR(C29="Feiertag",A29<Gesamt!$B$11,A29>Gesamt!$B$13,),0,INDIRECT("N"&WEEKDAY(A29,2)+19))) -> 0 | I29: =IF(OR(C29="Überstundenabbau",C29="Urlaub halber Tag",E29<>""),G29-H29,0) -> 0
A30: 46110 | B30: =TEXT(A30,"TTT") -> So | G30: =IF(OR(C30="krank",C30="Urlaub",C30="Sonderurlaub"), H30,IF(D30<=E30,(E30-D30-F30)*24,(1-D30+E30-F30)*24)+IF(C30= "Urlaub halber Tag",H30/2,0)+IF(AND(C30="Urlaub halber Tag", J30="halber Arbeitstag"),H30/2,0)) -> 0 | H30: =IF(Q30<>"",Q30,IF(OR(C30="Feiertag",A30<Gesamt!$B$11,A30>Gesamt!$B$13,),0,INDIRECT("N"&WEEKDAY(A30,2)+19))) -> 0 | I30: =IF(OR(C30="Überstundenabbau",C30="Urlaub halber Tag",E30<>""),G30-H30,0) -> 0
A31: 46111 | B31: =TEXT(A31,"TTT") -> Mo | D31: 0.29166667 | E31: 0.66666667 | F31: 0.041666667 | G31: =IF(OR(C31="krank",C31="Urlaub",C31="Sonderurlaub"), H31,IF(D31<=E31,(E31-D31-F31)*24,(1-D31+E31-F31)*24)+IF(C31= "Urlaub halber Tag",H31/2,0)+IF(AND(C31="Urlaub halber Tag", J31="halber Arbeitstag"),H31/2,0)) -> 8 | H31: =IF(Q31<>"",Q31,IF(OR(C31="Feiertag",A31<Gesamt!$B$11,A31>Gesamt!$B$13,),0,INDIRECT("N"&WEEKDAY(A31,2)+19))) -> 8 | I31: =IF(OR(C31="Überstundenabbau",C31="Urlaub halber Tag",E31<>""),G31-H31,0) -> -1.7763568e-15 | J31: Wien | K31: 30 | L31: 17 | M31: Vorschuss € 810,00
A32: 46112 | B32: =TEXT(A32,"TTT") -> Di | D32: 0.29166667 | E32: 0.66666667 | F32: 0.041666667 | G32: =IF(OR(C32="krank",C32="Urlaub",C32="Sonderurlaub"), H32,IF(D32<=E32,(E32-D32-F32)*24,(1-D32+E32-F32)*24)+IF(C32= "Urlaub halber Tag",H32/2,0)+IF(AND(C32="Urlaub halber Tag", J32="halber Arbeitstag"),H32/2,0)) -> 8 | H32: =IF(Q32<>"",Q32,IF(OR(C32="Feiertag",A32<Gesamt!$B$11,A32>Gesamt!$B$13,),0,INDIRECT("N"&WEEKDAY(A32,2)+19))) -> 8 | I32: =IF(OR(C32="Überstundenabbau",C32="Urlaub halber Tag",E32<>""),G32-H32,0) -> -1.7763568e-15 | J32: Wien | K32: 30 | L32: 17 | M32: Strafe € 32,00
J34: Summe: | K34: =SUM(K2:K33) -> 540 | L34: =SUM(L2:L33) -> 306

Sheet April
A1: Datum | B1: Tag | C1: Krank/Urlaub/Feiertag | D1: Kommen | E1: Gehen | F1: Pause | G1: Arbeitszeit | H1: Sollstunden | I1: Überstunden | J1: Bemerkungen | K1: Diäten | L1: Zimmergeld | M1: =TEXT(A2,"MMMM")&" "&YEAR(A2) -> April 2026 | Q1: Korrektur Soll
A2: 46113 | B2: =TEXT(A2,"TTT") -> Mi | D2: 0.29166667 | E2: 0.66666667 | F2: 0.041666667 | G2: =IF(OR(C2="krank",C2="Urlaub",C2="Sonderurlaub"), H2,IF(D2<=E2,(E2-D2-F2)*24,(1-D2+E2-F2)*24)+IF(C2= "Urlaub halber Tag",H2/2,0)+IF(AND(C2="Urlaub halber Tag", J2="halber Arbeitstag"),H2/2,0)) -> 8 | H2: =IF(Q2<>"",Q2,IF(OR(C2="Feiertag",A2<Gesamt!$B$11,A2>Gesamt!$B$13,),0,INDIRECT("N"&WEEKDAY(A2,2)+19))) -> 8 | I2: =IF(OR(C2="Überstundenabbau",C2="Urlaub halber Tag",E2<>""),G2-H2,0) -> -1.7763568e-15 | J2: Wien | K2: 30
A3: 46114 | B3: =TEXT(A3,"TTT") -> Do | D3: 0.29166667 | E3: 0.66666667 | F3: 0.041666667 | G3: =IF(OR(C3="krank",C3="Urlaub",C3="Sonderurlaub"), H3,IF(D3<=E3,(E3-D3-F3)*24,(1-D3+E3-F3)*24)+IF(C3= "Urlaub halber Tag",H3/2,0)+IF(AND(C3="Urlaub halber Tag", J3="halber Arbeitstag"),H3/2,0)) -> 8 | H3: =IF(Q3<>"",Q3,IF(OR(C3="Feiertag",A3<Gesamt!$B$11,A3>Gesamt!$B$13,),0,INDIRECT("N"&WEEKDAY(A3,2)+19))) -> 8 | I3: =IF(OR(C3="Überstundenabbau",C3="Urlaub halber Tag",E3<>""),G3-H3,0) -> -1.7763568e-15 | J3: Wien | K3: 30 | M3: =Gesamt!A3 -> Matija JELICIC
A4: 46115 | B4: =TEXT(A4,"TTT") -> Fr | D4: 0.29166667 | E4: 0.5625 | G4: =IF(OR(C4="krank",C4="Urlaub",C4="Sonderurlaub"), H4,IF(D4<=E4,(E4-D4-F4)*24,(1-D4+E4-F4)*24)+IF(C4= "Urlaub halber Tag",H4/2,0)+IF(AND(C4="Urlaub halber Tag", J4="halber Arbeitstag"),H4/2,0)) -> 6.5 | H4: =IF(Q4<>"",Q4,IF(OR(C4="Feiertag",A4<Gesamt!$B$11,A4>Gesamt!$B$13,),0,INDIRECT("N"&WEEKDAY(A4,2)+19))) -> 6.5 | I4: =IF(OR(C4="Überstundenabbau",C4="Urlaub halber Tag",E4<>""),G4-H4,0) -> 0 | J4: Wien | K4: 30
A5: 46116 | B5: =TEXT(A5,"TTT") -> Sa | G5: =IF(OR(C5="krank",C5="Urlaub",C5="Sonderurlaub"), H5,IF(D5<=E5,(E5-D5-F5)*24,(1-D5+E5-F5)*24)+IF(C5= "Urlaub halber Tag",H5/2,0)+IF(AND(C5="Urlaub halber Tag", J5="halber Arbeitstag"),H5/2,0)) -> 0 | H5: =IF(Q5<>"",Q5,IF(OR(C5="Feiertag",A5<Gesamt!$B$11,A5>Gesamt!$B$13,),0,INDIRECT("N"&WEEKDAY(A5,2)+19))) -> 0 | I5: =IF(OR(C5="Überstundenabbau",C5="Urlaub halber Tag",E5<>""),G5-H5,0) -> 0 | J5: Wien | M5: Überstunden Monat: | N5: =SUM(I2:I32) -> -3.0198066e-14
A6: 46117 | B6: =TEXT(A6,"TTT") -> So | G6: =IF(OR(C6="krank",C6="Urlaub",C6="Sonderurlaub"), H6,IF(D6<=E6,(E6-D6-F6)*24,(1-D6+E6-F6)*24)+IF(C6= "Urlaub halber Tag",H6/2,0)+IF(AND(C6="Urlaub halber Tag", J6="halber Arbeitstag"),H6/2,0)) -> 0 | H6: =IF(Q6<>"",Q6,IF(OR(C6="Feiertag",A6<Gesamt!$B$11,A6>Gesamt!$B$13,),0,INDIRECT("N"&WEEKDAY(A6,2)+19))) -> 0 | I6: =IF(OR(C6="Überstundenabbau",C6="Urlaub halber Tag",E6<>""),G6-H6,0) -> 0 | J6: Wien
A7: 46118 | B7: =TEXT(A7,"TTT") -> Mo | C7: Feiertag | G7: =IF(OR(C7="krank",C7="Urlaub",C7="Sonderurlaub"), H7,IF(D7<=E7,(E7-D7-F7)*24,(1-D7+E7-F7)*24)+IF(C7= "Urlaub halber Tag",H7/2,0)+IF(AND(C7="Urlaub halber Tag", J7="halber Arbeitstag"),H7/2,0)) -> 0 | H7: =IF(Q7<>"",Q7,IF(OR(C7="Feiertag",A7<Gesamt!$B$11,A7>Gesamt!$B$13,),0,INDIRECT("N"&WEEKDAY(A7,2)+19))) -> 0 | I7: =IF(OR(C7="Überstundenabbau",C7="Urlaub halber Tag",E7<>""),G7-H7,0) -> 0 | J7: Wien | M7: Überstundenkonto: | N7: =Gesamt!B9+SUM(Gesamt!E2:E5)-SUM(Gesamt!J2:J5) -> -1.1191048e-13
A8: 46119 | B8: =TEXT(A8,"TTT") -> Di | D8: 0.29166667 | E8: 0.66666667 | F8: 0.041666667 | G8: =IF(OR(C8="krank",C8="Urlaub",C8="Sonderurlaub"), H8,IF(D8<=E8,(E8-D8-F8)*24,(1-D8+E8-F8)*24)+IF(C8= "Urlaub halber Tag",H8/2,0)+IF(AND(C8="Urlaub halber Tag", J8="halber Arbeitstag"),H8/2,0)) -> 8 | H8: =IF(Q8<>"",Q8,IF(OR(C8="Feiertag",A8<Gesamt!$B$11,A8>Gesamt!$B$13,),0,INDIRECT("N"&WEEKDAY(A8,2)+19))) -> 8 | I8: =IF(OR(C8="Überstundenabbau",C8="Urlaub halber Tag",E8<>""),G8-H8,0) -> -1.7763568e-15 | J8: Wien | K8: 30
A9: 46120 | B9: =TEXT(A9,"TTT") -> Mi | D9: 0.29166667 | E9: 0.66666667 | F9: 0.041666667 | G9: =IF(OR(C9="krank",C9="Urlaub",C9="Sonderurlaub"), H9,IF(D9<=E9,(E9-D9-F9)*24,(1-D9+E9-F9)*24)+IF(C9= "Urlaub halber Tag",H9/2,0)+IF(AND(C9="Urlaub halber Tag", J9="halber Arbeitstag"),H9/2,0)) -> 8 | H9: =IF(Q9<>"",Q9,IF(OR(C9="Feiertag",A9<Gesamt!$B$11,A9>Gesamt!$B$13,),0,INDIRECT("N"&WEEKDAY(A9,2)+19))) -> 8 | I9: =IF(OR(C9="Überstundenabbau",C9="Urlaub halber Tag",E9<>""),G9-H9,0) -> -1.7763568e-15 | J9: Wien | K9: 30 | M9: Kranktage Monat: | N9: =COUNTIF(C2:C32,"krank") -> 0
A10: 46121 | B10: =TEXT(A10,"TTT") -> Do | D10: 0.29166667 | E10: 0.66666667 | F10: 0.041666667 | G10: =IF(OR(C10="krank",C10="Urlaub",C10="Sonderurlaub"), H10,IF(D10<=E10,(E10-D10-F10)*24,(1-D10+E10-F10)*24)+IF(C10= "Urlaub halber Tag",H10/2,0)+IF(AND(C10="Urlaub halber Tag", J10="halber Arbeitstag"),H10/2,0)) -> 8 | H10: =IF(Q10<>"",Q10,IF(OR(C10="Feiertag",A10<Gesamt!$B$11,A10>Gesamt!$B$13,),0,INDIRECT("N"&WEEKDAY(A10,2)+19))) -> 8 | I10: =IF(OR(C10="Überstundenabbau",C10="Urlaub halber Tag",E10<>""),G10-H10,0) -> -1.7763568e-15 | J10: Wien | K10: 30
A11: 46122 | B11: =TEXT(A11,"TTT") -> Fr | D11: 0.29166667 | E11: 0.5625 | G11: =IF(OR(C11="krank",C11="Urlaub",C11="Sonderurlaub"), H11,IF(D11<=E11,(E11-D11-F11)*24,(1-D11+E11-F11)*24)+IF(C11= "Urlaub halber Tag",H11/2,0)+IF(AND(C11="Urlaub halber Tag", J11="halber Arbeitstag"),H11/2,0)) -> 6.5 | H11: =IF(Q11<>"",Q11,IF(OR(C11="Feiertag",A11<Gesamt!$B$11,A11>Gesamt!$B$13,),0,INDIRECT("N"&WEEKDAY(A11,2)+19))) -> 6.5 | I11: =IF(OR(C11="Überstundenabbau",C11="Urlaub halber Tag",E11<>""),G11-H11,0) -> 0 | J11: Wien | K11: 30 | M11: Kranktage Jahr bisher: | N11: =SUM(Gesamt!F2:F5) -> 0
A12: 46123 | B12: =TEXT(A12,"TTT") -> Sa | G12: =IF(OR(C12="krank",C12="Urlaub",C12="Sonderurlaub"), H12,IF(D12<=E12,(E12-D12-F12)*24,(1-D12+E12-F12)*24)+IF(C12= "Urlaub halber Tag",H12/2,0)+IF(AND(C12="Urlaub halber Tag", J12="halber Arbeitstag"),H12/2,0)) -> 0 | H12: =IF(Q12<>"",Q12,IF(OR(C12="Feiertag",A12<Gesamt!$B$11,A12>Gesamt!$B$13,),0,INDIRECT("N"&WEEKDAY(A12,2)+19))) -> 0 | I12: =IF(OR(C12="Überstundenabbau",C12="Urlaub halber Tag",E12<>""),G12-H12,0) -> 0 | J12: Wien | K12: 30
A13: 46124 | B13: =TEXT(A13,"TTT") -> So | G13: =IF(OR(C13="krank",C13="Urlaub",C13="Sonderurlaub"), H13,IF(D13<=E13,(E13-D13-F13)*24,(1-D13+E13-F13)*24)+IF(C13= "Urlaub halber Tag",H13/2,0)+IF(AND(C13="Urlaub halber Tag", J13="halber Arbeitstag"),H13/2,0)) -> 0 | H13: =IF(Q13<>"",Q13,IF(OR(C13="Feiertag",A13<Gesamt!$B$11,A13>Gesamt!$B$13,),0,INDIRECT("N"&WEEKDAY(A13,2)+19))) -> 0 | I13: =IF(OR(C13="Überstundenabbau",C13="Urlaub halber Tag",E13<>""),G13-H13,0) -> 0 | J13: Wien | K13: 30 | M13: Urlaubstage Monat: | N13: =COUNTIF(C2:C32, "Urlaub")+COUNTIF(C2:C32,"Urlaub halber Tag")/2 -> 0
A14: 46125 | B14: =TEXT(A14,"TTT") -> Mo | D14: 0.29166667 | E14: 0.66666667 | F14: 0.041666667 | G14: =IF(OR(C14="krank",C14="Urlaub",C14="Sonderurlaub"), H14,IF(D14<=E14,(E14-D14-F14)*24,(1-D14+E14-F14)*24)+IF(C14= "Urlaub halber Tag",H14/2,0)+IF(AND(C14="Urlaub halber Tag", J14="halber Arbeitstag"),H14/2,0)) -> 8 | H14: =IF(Q14<>"",Q14,IF(OR(C14="Feiertag",A14<Gesamt!$B$11,A14>Gesamt!$B$13,),0,INDIRECT("N"&WEEKDAY(A14,2)+19))) -> 8 | I14: =IF(OR(C14="Überstundenabbau",C14="Urlaub halber Tag",E14<>""),G14-H14,0) -> -1.7763568e-15 | J14: Wien | K14: 30
A15: 46126 | B15: =TEXT(A15,"TTT") -> Di | D15: 0.29166667 | E15: 0.66666667 | F15: 0.041666667 | G15: =IF(OR(C15="krank",C15="Urlaub",C15="Sonderurlaub"), H15,IF(D15<=E15,(E15-D15-F15)*24,(1-D15+E15-F15)*24)+IF(C15= "Urlaub halber Tag",H15/2,0)+IF(AND(C15="Urlaub halber Tag", J15="halber Arbeitstag"),H15/2,0)) -> 8 | H15: =IF(Q15<>"",Q15,IF(OR(C15="Feiertag",A15<Gesamt!$B$11,A15>Gesamt!$B$13,),0,INDIRECT("N"&WEEKDAY(A15,2)+19))) -> 8 | I15: =IF(OR(C15="Überstundenabbau",C15="Urlaub halber Tag",E15<>""),G15-H15,0) -> -1.7763568e-15 | J15: Wien | K15: 30 | M15: Resturlaub am Monatsende: | N15: =Gesamt!B5+Gesamt!B7-SUM(Gesamt!G2:G5) -> 24
A16: 46127 | B16: =TEXT(A16,"TTT") -> Mi | D16: 0.29166667 | E16: 0.66666667 | F16: 0.041666667 | G16: =IF(OR(C16="krank",C16="Urlaub",C16="Sonderurlaub"), H16,IF(D16<=E16,(E16-D16-F16)*24,(1-D16+E16-F16)*24)+IF(C16= "Urlaub halber Tag",H16/2,0)+IF(AND(C16="Urlaub halber Tag", J16="halber Arbeitstag"),H16/2,0)) -> 8 | H16: =IF(Q16<>"",Q16,IF(OR(C16="Feiertag",A16<Gesamt!$B$11,A16>Gesamt!$B$13,),0,INDIRECT("N"&WEEKDAY(A16,2)+19))) -> 8 | I16: =IF(OR(C16="Überstundenabbau",C16="Urlaub halber Tag",E16<>""),G16-H16,0) -> -1.7763568e-15 | J16: Wien | K16: 30
A17: 46128 | B17: =TEXT(A17,"TTT") -> Do | D17: 0.29166667 | E17: 0.66666667 | F17: 0.041666667 | G17: =IF(OR(C17="krank",C17="Urlaub",C17="Sonderurlaub"), H17,IF(D17<=E17,(E17-D17-F17)*24,(1-D17+E17-F17)*24)+IF(C17= "Urlaub halber Tag",H17/2,0)+IF(AND(C17="Urlaub halber Tag", J17="halber Arbeitstag"),H17/2,0)) -> 8 | H17: =IF(Q17<>"",Q17,IF(OR(C17="Feiertag",A17<Gesamt!$B$11,A17>Gesamt!$B$13,),0,INDIRECT("N"&WEEKDAY(A17,2)+19))) -> 8 | I17: =IF(OR(C17="Überstundenabbau",C17="Urlaub halber Tag",E17<>""),G17-H17,0) -> -1.7763568e-15 | J17: Wien | K17: 30 | M17: Arbeitszeit Monat: | N17: =SUM(G2:G32) -> 162
A18: 46129 | B18: =TEXT(A18,"TTT") -> Fr | D18: 0.29166667 | E18: 0.5625 | G18: =IF(OR(C18="krank",C18="Urlaub",C18="Sonderurlaub"), H18,IF(D18<=E18,(E18-D18-F18)*24,(1-D18+E18-F18)*24)+IF(C18= "Urlaub halber Tag",H18/2,0)+IF(AND(C18="Urlaub halber Tag", J18="halber Arbeitstag"),H18/2,0)) -> 6.5 | H18: =IF(Q18<>"",Q18,IF(OR(C18="Feiertag",A18<Gesamt!$B$11,A18>Gesamt!$B$13,),0,INDIRECT("N"&WEEKDAY(A18,2)+19))) -> 6.5 | I18: =IF(OR(C18="Überstundenabbau",C18="Urlaub halber Tag",E18<>""),G18-H18,0) -> 0 | J18: Wien | K18: 30
