Workbook

Sheet Projektkosten
A1: Projektkosten| VIE 013-Fassade-01 | Strabag AG
B2: Kosten
A3: Monat | B3: Löhne inkl. Nebenkosten | C3: Innendienst | D3: Fremdpersonal | E3: Zimmer | F3: Miete Büro | G3: Leasing Werkzeug | H3: Werkzeugkauf | I3: KFZ Instandhaltung | J3: Treibstoff KFZ | K3: Versicherung KFZ | L3: Leasing KFZ | M3: Abzug Schaden | N3: Steuerberatung | O3: Lohnverrechnung | P3: Summe Kosten | Q3: Einnahmen Strabag AG | R3: Ergebnis (Einnahmen minus Kosten)
A4: 45931 | B4: 29037.94 | C4: =SUM(Nebenrechnungen!B17:B18) -> 9144.47 | D4: 0 | E4: 1341.56 | F4: =1140*0.65 -> 741 | G4: 1056 | H4: =134.03 -> 134.03 | I4: 679.91 | J4: 150 | K4: =1185.46*0.8 -> 948.368 | L4: 1470.22 | N4: =602.06*0.8 -> 481.648 | O4: =1062.6*0.8 -> 850.08 | P4: =SUM(B4:O4) -> 46035.226 | R4: =Q4-P4 -> -46035.226
A5: 45962 | B5: 58816.65 | C5: =SUM(Nebenrechnungen!C17:C18) -> 14070.94 | D5: 0 | E5: =1163.21+944.14 -> 2107.35 | F5: =1140*0.65 -> 741 | G5: 1056 | H5: =319.69+9.92 -> 329.61 | I5: 679.91 | J5: 150 | K5: 1185.46 | L5: 1470.22 | N5: =602.06*0.8 -> 481.648 | O5: =1062.6*0.8 -> 850.08 | P5: =SUM(B5:O5) -> 81938.868 | R5: =Q5-P5 -> -81938.868
A6: 45992 | B6: 26184.21 | C6: =SUM(Nebenrechnungen!D17:D18) -> 8454.77 | D6: 0 | E6: 1746.36 | F6: =1140*0.65 -> 741 | G6: 1056 | H6: 115.56 | I6: 679.91 | J6: 150 | K6: 1185.46 | L6: 1470.22 | N6: =602.06*0.8 -> 481.648 | O6: =1062.6*0.8 -> 850.08 | P6: =SUM(B6:O6) -> 43115.218 | Q6: =29498.78+27573.29 -> 57072.07 | R6: =Q6-P6 -> 13956.852
A7: 46023 | B7: =SUM(Nebenrechnungen!E2:E16) -> 28866.45 | C7: =SUM(Nebenrechnungen!E17:E18) -> 8503.88 | D7: 0 | E7: =2404.59+472.07 -> 2876.66 | F7: =(1202.79+375)*0.65 -> 1025.5635 | G7: 1056 | H7: =71+64.33+34.12+65.25+29.14+139.83 -> 403.67 | I7: 679.91 | J7: 150 | K7: 1282.3 | L7: 1988.25 | N7: =602.06*0.8 -> 481.648 | O7: =1062.6*0.8 -> 850.08 | P7: =SUM(B7:O7) -> 48164.412 | Q7: 67963.45 | R7: =Q7-P7 -> 19799.038
A8: 46054 | B8: =SUM(Nebenrechnungen!F2:F16) -> 34536.77 | C8: =SUM(Nebenrechnungen!F17:F18) -> 8848.83 | D8: 0 | E8: =4707.35+629.43 -> 5336.78 | F8: =(1202.79+375)*0.65 -> 1025.5635 | G8: 1056 | H8: =121.37+195.59+721.08 -> 1038.04 | I8: 679.91 | J8: 150 | K8: 1282.3 | L8: 1988.25 | N8: =602.06*0.8 -> 481.648 | O8: =1062.6*0.8 -> 850.08 | P8: =SUM(B8:O8) -> 57274.172 | Q8: 46138.5 | R8: =Q8-P8 -> -11135.672
A9: 46082 | B9: =SUM(Nebenrechnungen!G2:G16) -> 41062.24 | C9: =SUM(Nebenrechnungen!G17:G18) -> 5959.2 | D9: =27*626 -> 16902 | E9: =2353.68+2353.69+786.79+472.07+987.34 -> 6953.57 | F9: =(1202.79+375)*0.65 -> 1025.5635 | G9: 1056 | H9: =364.11+321.05+173.14+60.92-290+106.83+89.95+58.48+157.19 -> 1041.67 | I9: 679.91 | J9: 150 | K9: 1282.3 | L9: 1988.25 | N9: =602.06*0.8 -> 481.648 | O9: =1062.6*0.8 -> 850.08 | P9: =SUM(B9:O9) -> 79432.432 | Q9: =102773.77+4234 -> 107007.77 | R9: =Q9-P9 -> 27575.338
A10: 46113 | B10: =SUM(Nebenrechnungen!H2:H16) -> 26209.02 | C10: =SUM(Nebenrechnungen!H17:H18) -> 9541.58 | D10: =27*765 -> 20655 | E10: =314.71+629.43+925.63+2205.58+1576.15+1481.01+2205.58 -> 9338.09 | F10: =(1202.79+375)*0.65 -> 1025.5635 | G10: 1056 | H10: 99.05 | I10: 679.91 | J10: 150 | K10: 1282.3 | L10: 1988.25 | M10: 22053.92 | N10: =602.06*0.8 -> 481.648 | O10: =1062.6*0.8 -> 850.08 | P10: =SUM(B10:O10) -> 95410.412 | Q10: =23130.16+17640+35872.7+16085.72+17279.36 -> 110007.94 | R10: =Q10-P10 -> 14597.528
A11: 46143 | B11: =SUM(Nebenrechnungen!I2:I16) -> 17440.58 | C11: =SUM(Nebenrechnungen!I17:I18) -> 9481.63 | D11: =27*276 -> 7452 | E11: 1481.01 | F11: =(1202.79+375)*0.65 -> 1025.5635 | G11: 1056 | I11: 679.91 | J11: 150 | K11: 1282.3 | L11: 1988.25 | P11: =SUM(B11:O11) -> 42037.244 | R11: =Q11-P11 -> -42037.244
A12: Zwischensumme (Apr-Mai) | B12: =SUM(B4:B10) -> 244713.28 | C12: =SUM(C4:C10) -> 64523.67 | D12: =SUM(D4:D10) -> 37557 | E12: =SUM(E4:E10) -> 29700.37 | F12: =SUM(F4:F10) -> 6325.254 | G12: =SUM(G4:G10) -> 7392 | H12: =SUM(H4:H10) -> 3161.63 | I12: =SUM(I4:I10) -> 4759.37 | ... O12: =SUM(O4:O10) -> 5950.56 | P12: =SUM(B12:O12) -> 451370.74 | Q12: =SUM(Q4:Q10) -> 388189.73 | R12: =Q12-P12 -> -63181.008

Sheet Nebenrechnungen
A1: Mitarbeiter | B1: 45931 | C1: 45962 | D1: 45992 | E1: 46023 | F1: 46054 | G1: 46082 | H1: 46113 | I1: 46143 | J1: 46174
A2: Axinte Mihaita | E2: 3130.7 | F2: 4199.81 | G2: 800.86
A3: Beljo Marinko | G3: 3595.2 | H3: 4048.56
A4: Bolohan Marinica-Nicusor | I4: 3821.33
A5: Butucaru Ciprian Alex | E5: 2898.47 | F5: 2551.39
A6: Chelariu Leonard | E6: 3090.7 | F6: 3779.81 | G6: 4656.29 | H6: 1441.96
A7: Fudulu Flavius-Bogdan | F7: 704 | G7: 5186.68
A8: Jelicic Matija | E8: 1244.53 | F8: 3659.81 | G8: 4374.29 | H8: 4269.05
A9: Margan Dragi | E9: 4065 | F9: 5300 | G9: 6770.98 | H9: 5949.95 | I9: 5829.02
A10: Margan Mario | E10: 3442.5 | F10: 4421.5 | G10: 5056.98 | H10: 4910.74
A11: Murzek Ivan | E11: 2954.7 | F11: 2054.04
A12: Pal Alexandru | E12: 2624.41 | F12: 4109.81 | G12: 4938.29 | H12: 4119.05 | I12: 3963.82
A13: Paulievici Miroslav | E13: 3056.7 | F13: 1516.05
A14: Petrea Paul | E14: 2358.74 | F14: 1357.56
A15: Teodoru Denis | H15: 1469.71 | I15: 3826.41
A16: Vasalag Nicolae | F16: 882.99 | G16: =773.24+4909.43 -> 5682.67
A17: Schönwetter August | B17: 7644.47 | C17: 12570.94 | D17: 6954.77 | E17: 7003.88 | F17: 7348.83 | G17: 4459.2 | H17: 7664.83 | I17: 7601.63
A18: Orlando Katrin | B18: 1500 | C18: 1500 | D18: 1500 | E18: 1500 | F18: 1500 | G18: 1500 | H18: 1876.75 | I18: 1880
