Workbook

Sheet Endabrechnung
B1: Dienstnehmer: 112 | C1: Mario MARGAN | F1: Versicherungsnr.: 35041071203
B3: Überstunden Abrechnung gemäß §2g AVRAG | J3: Tag- u. Nächtigungsgelder Berichtigung | M3: Vorschüsse (Darlehen) Dienstnehmer 2026
B5: Zeitraum | C5: Sollstunden | D5: Iststunden | E5: ÜSt 50 % | F5: Üst 100 % | G5: ÜSt 50 % stfr | H5: Üst 50 % stpfl | I5: ÜSt-Entlohnung brutto (ÜGL + ÜZ 50%) | J5: Taggelder Ist | K5: Taggelder Soll | L5: Kürzung Taggelder | M5: Summe | N5: Aufrollung SB | O5: Netto vor Aufrollung | P5: Netto nach Aufrollung | Q5: Summe Nachzahlung LSt / SV
B6: 12.01.-31.01.2026 | C6: =38.5*3 -> 115.5 | E6: =D6-C6 -> -115.5 | F6: 0 | G6: 15 | H6: =E6-G6 -> -130.5 | I6: =(2759.39/143)*Endabrechnung!E6+((2759.39/143)*H6)*0.5 -> -3487.8304 | L6: =J6-K6 -> 0 | M6: 2000 | N6: unter Grenzbetrag 7.300 €
B7: 01.02.-28.02.2026 | C7: =38.5*4 -> 154 | E7: =D7-C7 -> -154 | F7: 0 | G7: 15 | H7: =E7-G7 -> -169 | I7: =(2759.39/143)*Endabrechnung!E7+((2759.39/143)*H7)*0.5 -> -4602.1994 | L7: =J7-K7 -> 0 | M7: 1785 | N7: unter Grenzbetrag 7.300 €
B8: 01.03.-12.03.2026 | C8: =38.5*4+8+8 -> 170 | E8: =D8-C8 -> -170 | F8: 0 | G8: 15 | H8: =E8-G8 -> -185 | I8: =(2759.39/143)*Endabrechnung!E8+((2759.39/143)*H8)*0.5 -> -5065.3138 | L8: =J8-K8 -> 0 | M8: 3500 | N8: unter Grenzbetrag 7.300 €
B9: 01.04.-30.04.2026 | C9: =38.5*4+8+8-8 -> 162 | E9: =D9-C9 -> -162 | F9: 0 | G9: 15 | H9: =E9-G9 -> -177 | I9: =(2759.39/143)*Endabrechnung!E9+((2759.39/143)*H9)*0.5 -> -4833.7566 | L9: =J9-K9 -> 0 | M9: 3000 | N9: =SUM(M6:M9)-7300 -> 2985 | Q9: =O9-P9 -> 0
B10: 01.05.-31.05.2026 | C10: =38.5*4+6.5-6.5-8-8 -> 138 | E10: =D10-C10 -> -138 | F10: 0 | G10: 15 | H10: =E10-G10 -> -153 | I10: =(2759.39/143)*Endabrechnung!E10+((2759.39/143)*H10)*0.5 -> -4139.085 | L10: =J10-K10 -> 0 | M10: 1500 | N10: =M10 -> 1500 | Q10: =O10-P10 -> 0
B11: 01.06.-30.06.2026 | C11: =38.5*4+16-8 -> 162 | E11: =D11-C11 -> -162 | F11: 0 | G11: 0 | H11: =E11-G11 -> -162 | I11: =(2759.39/143)*Endabrechnung!E11+((2759.39/143)*H11)*0.5 -> -4689.0334 | L11: =J11-K11 -> 0 | M11: 2000 | N11: =M11 -> 2000 | Q11: =O11-P11 -> 0
B12: 01.07.-16.07.2026 | C12: =38.5*2+16 -> 93 | E12: =D12-C12 -> -93 | F12: 0 | G12: 0 | H12: =E12-G12 -> -93 | I12: =(2759.39/143)*Endabrechnung!E12+((2759.39/143)*H12)*0.5 -> -2691.8525 | L12: =J12-K12 -> 0
B13: Summe | C13: =SUM(C6:C12) -> 994.5 | D13: =SUM(D6:D12) -> 0 | E13: =SUM(E6:E12) -> -994.5 | F13: =SUM(F6:F12) -> 0 | G13: =SUM(G6:G12) -> 75 | H13: =SUM(H6:H12) -> -1069.5 | I13: =(2759.39/143)*E13+((2759.39/143)*E13)*0.5 -> -28785.455 | J13: =SUM(J6:J12) -> 0 | K13: =SUM(K6:K12) -> 0 | L13: =SUM(L6:L12) -> 0 | M13: =SUM(M6:M12) -> 13785 | N13: =SUM(N6:N12) -> 6485 | O13: =SUM(O6:O12) -> 0 | P13: =SUM(P6:P12) -> 0 | Q13: =SUM(Q6:Q12) -> 0
A16: Vorschau-Berichtigungen (Jan-Jul 2026)
A17: Zuschläge | B17: Umstufung in Lohngruppe 4 (netto) | F17: =58.3*6 -> 349.8
B18: Überstundengrundlohn (brutto) | F18: =(2759.39/143)*E13 -> -19190.303
B19: Überstundenzuschläge (brutto) | F19: =((2759.39/143)*H13)*0.5 -> -10318.768
B20: Überstundenzuschläge steuerfrei [max. 15 ÜZ bis 170 € steuerfrei] | F20: =((2759.39/143)*G13)*0.5 -> 723.61626
B21: Montagezulage für Überstunden (brutto) | F21: =E13*1.155 -> -1148.6475
A22: Abzüge | B22: Aufrollung Lohnvorschüsse als Sachbezug (netto) | F22: =Q13*-1 -> 0
B23: Nächtigungsgelder Berichtigung (netto) | F23: =L13*-1 -> 0
B24: Nachzahlung SV und LSt für höheres Brutto und Überstunden | F24: =#REF!*-1 -> #REF!
B25: Summe Nachzahlung Dienstnehmer | F25: =SUM(F18:F24) -> #REF!
