Workbook

Sheet Einnahmen
D1: Einnahmen 2016
A3: Rechnungsdatum | B3: Zahlungsdatum | C3: RNr. | D3: Bezeichnung | E3: Gesamt Netto | F3: Ust | G3: Gesamt Brutto
A5: 42435 | B5: 42437 | C5: 10260 | D5: Hosting | E5: 48 | F5: 9.6 | G5: =E5+F5 -> 57.6
A6: 42435 | B6: 42437 | C6: 10261 | D6: Hosting | E6: 48 | F6: 9.6 | G6: =E6+F6 -> 57.6
A7: 42435 | B7: 42438 | C7: 10257 | D7: Hosting | E7: 48 | F7: 9.6 | G7: =E7+F7 -> 57.6
A8: 42435 | B8: 42438 | C8: 10262 | D8: Hosting | E8: 48 | F8: 9.6 | G8: =E8+F8 -> 57.6
A9: 42435 | B9: 42438 | C9: 10265 | D9: Hosting | E9: 48 | F9: 9.6 | G9: =E9+F9 -> 57.6
A10: 42435 | B10: 42440 | C10: 10264 | D10: Hosting | E10: 48 | F10: 9.6 | G10: =E10+F10 -> 57.6
A11: 42435 | B11: 42443 | C11: 10259 | D11: Hosting | E11: 48 | F11: 9.6 | G11: =E11+F11 -> 57.6
A12: 42435 | B12: 42444 | C12: 10251 | D12: Hosting | E12: 48 | F12: 9.6 | G12: =E12+F12 -> 57.6
A13: 42435 | B13: 42078 | C13: 10254 | D13: Hosting | E13: 48 | F13: 9.6 | G13: =E13+F13 -> 57.6
A14: 42435 | B14: 42078 | C14: 10256 | D14: Hosting | E14: 48 | F14: 9.6 | G14: =E14+F14 -> 57.6
A15: 42435 | B15: 42445 | C15: 10255 | D15: Hosting | E15: 48 | F15: 9.6 | G15: =E15+F15 -> 57.6
A16: 42446 | B16: 42450 | C16: 10269 | D16: Umsetzung Website / Hosting | E16: 1000 | F16: 200 | G16: =E16+F16 -> 1200
... A39: 42682 | B39: 42733 | C39: 10291 | D39: Hosting | E39: 48 | F39: 9.6 | G39: =E39+F39 -> 57.6
E42: =SUM(E5:E41) -> 10455.23 | F42: =SUM(F5:F41) -> 2091.05 | G42: =SUM(G5:G41) -> 12546.28

Sheet Ausgaben
D1: Ausgaben 2016
A3: Rechnungsdatum | B3: Zahlungsdatum | C3: RNr | D3: Bezeichnung | E3: Gesamt Netto | F3: Ust | G3: Gesamt Brutto
A5: 42360 | B5: 42373 | D5: Einrichtung | E5: 900.28 | F5: 180.06 | G5: =E5+F5 -> 1080.34
A6: 42367 | B6: 42374 | D6: Servergebühren | E6: 57.14 | F6: 11.43 | G6: =E6+F6 -> 68.57
A7: 42397 | B7: 42410 | D7: A1 Rechnung | E7: 66.53 | F7: 13.31 | G7: =SUM(E7:F7) -> 79.84
A8: 42397 | B8: 42397 | D8: Spesen | G8: 89.6
A9: 42398 | B9: 42405 | D9: Hetzner Servergebühren | E9: 57.14 | F9: 11.43 | G9: 68.57
A10: 42429 | B10: 42436 | D10: Hetzner Servergebühren | E10: 57.14 | F10: 11.43 | G10: =E10+F10 -> 68.57
A11: 42424 | B11: 42437 | D11: A1 Rechnung | E11: 36.37 | F11: 7.27 | G11: =E11+F11 -> 43.64
A12: 42448 | B12: 42452 | D12: Techdata Zorn Hardware | E12: 774.59 | F12: 154.92 | G12: =E12+F12 -> 929.51
A13: 42448 | B13: 42452 | D13: Techdata Zorn Hardware | E13: 355.52 | F13: 71.1 | G13: =SUM(E13:F13) -> 426.62
A14: 42430 | B14: 42458 | D14: Caroba Alpin Lodge | E14: 1425 | F14: 285 | G14: =SUM(E14:F14) -> 1710
A15: 42459 | B15: 42459 | D15: Domaingebühren | E15: 10 | F15: 2 | G15: =E15+F15 -> 12
A16: 42458 | B16: 42465 | D16: Hetzner Servergebühren | E16: 57.14 | F16: 11.43 | G16: =E16+F16 -> 68.57
A17: 42458 | B17: 42466 | D17: Techdata Zorn Software | E17: 201.62 | F17: 40.32 | G17: =E17+F17 -> 241.94
A18: 42467 | B18: 42467 | D18: A1 Rechnung | E18: 36.31 | F18: 7.26 | G18: =E18+F18 -> 43.57
A19: 42472 | B19: 42474 | D19: Kabel | E19: 13.03 | F19: 2.47 | G19: =E19+F19 -> 15.5
A20: 42489 | B20: 42496 | D20: Hetzner Servergebühren | E20: 57.14 | F20: 11.43 | G20: =E20+F20 -> 68.57
A21: 42488 | B21: 42502 | D21: A1 Rechnung | E21: 35.63 | F21: 7.13 | G21: =E21+F21 -> 42.76
A22: 42487 | B22: 42508 | D22: Domaingebühren | E22: 10 | F22: 2 | G22: =E22+F22 -> 12
A23: 42519 | B23: 42527 | D23: Hetzner Servergebühren | E23: 57.14 | F23: 11.43 | G23: =E23+F23 -> 68.57
A24: 42515 | B24: 42528 | D24: Domaingebühren | E24: 10 | F24: 2 | G24: =E24+F24 -> 12
A25: 42550 | B25: 42556 | D25: Hetzner Servergebühren | E25: 67.64 | F25: 13.53 | G25: =E25+F25 -> 81.17
A26: 42576 | B26: 42577 | D26: RAM Notebook | E26: 14.71 | F26: 2.79 | G26: =E26+F26 -> 17.5
... A29: 42579 | B29: 42592 | D29: A1 Rechnung | E29: 87.84 | F29: 17.57 | G29: =E29+F29 -> 105.41
A30: 42600 | B30: 42601 | D30: Techdate Desktop | E30: 467.38 | F30: 93.48 | G30: 560.86
A31: 42611 | B31: 42618 | D31: Hetzner Servergebühren | E31: 57.14 | F31: 11.43 | G31: =E31+F31 -> 68.57
A32: 42627 | B32: 42635 | D32: Techdate Server / Windows | E32: 701.21 | F32: 140.24 | G32: =E32+F32 -> 841.45
A33: 42641 | B33: 42663 | D33: Domaingebühren | E33: 10 | F33: 2 | G33: =E33+F33 -> 12
A34: 42642 | B34: 42648 | D34: Hetzner Servergebühren | E34: 57.14 | F34: 11.43 | G34: =E34+F34 -> 68.57
A35: 42670 | B35: 42670 | D35: Büroeinrichtung | E35: 57.42 | F35: 11.48 | G35: =E35+F35 -> 68.9
A36: 42669 | B36: 42671 | D36: Hardware | E36: 19.95 | F36: 3.99 | G36: =E36+F36 -> 23.94
A37: 42655 | B37: 42677 | D37: Techdata Notebook | E37: 652.38 | F37: 130.48 | G37: =E37+F37 -> 782.86
A38: 42672 | B38: 42678 | D38: Hetzner Servergebühren | E38: 104.78 | F38: 20.95 | G38: =E38+F38 -> 125.73
A39: 42679 | B39: 42679 | D39: SSL Zertifikat zweip.at | G39: 247.64
A40: 42677 | B40: 42681 | D40: Techdata Switch Zyxel | E40: 569.49 | F40: 113.9 | G40: =E40+F40 -> 683.39
A41: 42671 | B41: 42685 | D41: A1 Rechnung | E41: 41.44 | F41: 8.29 | G41: =E41+F41 -> 49.73
A42: 42688 | B42: 42690 | D42: Amazon Werkzeug | E42: 114.61 | F42: 22.92 | G42: =E42+F42 -> 137.53
A43: 42695 | B43: 42702 | D43: Techdata | E43: 324.85 | F43: 64.97 | G43: =E43+F43 -> 389.82
A44: 42699 | B44: 42703 | D44: Batterieladegerät | E44: 8.66 | F44: 1.73 | G44: =E44+F44 -> 10.39
...

Sheet Tabelle3
C2: Gesamt
C5: Ausgangsrechnung | D5: Eingangrechnung | F5: Differenz
A6: Brutto | C6: =Einnahmen!G42 -> 12546.28 | D6: =Ausgaben!G63 -> 11021.922 | F6: =C6-D6 -> 1524.358
A7: Ust | C7: =Einnahmen!F42 -> 2091.05 | D7: =Ausgaben!F63 -> 1782.76 | F7: =C7-D7 -> 308.29
A8: Netto | C8: =Einnahmen!E42 -> 10455.23 | D8: =Ausgaben!E63 -> 8901.922 | F8: =C8-D8 -> 1553.308
